BEGIN:VCALENDAR
METHOD:PUBLISH
VERSION:2.0
PRODID:-//Eventilla iCal Syndication//NONSGML Liana//EN
BEGIN:VEVENT
UID:l0RE6@eventilla.com
DTSTAMP:20230510T160000Z
DTSTART:20230510T160000Z
DTEND:20230607T171500Z
SUMMARY:Pikajuoksukurssi Pirkkola 10.5.2023
DESCRIPTION:Ilmoittaudu mukaan Runner's High:n 10.5.2023 alkavalle pikajuoksukurssille Pirkkolan Urheilukentälle.\nLue tarkemmat kurssin tiedot Runner's High:n nettisivuilta.\nMaksutapoina käyvät yleisimmät suomalaiset verkkopankit ja luottokortit sekä liikuntaedut (Smartum\, Edenred\, ePassi\, Eazybreak). \nMikäli valitset maksutavaksi liikuntaedut\, katsothan maksuohjeet täältä: https://www.runhigh.fi/liikuntaeduilla-maksaminen\nLiikuntaedut ovat henkilökohtaisia\, joten niillä voit maksaa vain oman ilmoittautumisesi.\nOletko alle 25-vuotias? Saat kurssin maksusta 20 % nuorisoalennuksen alennuskoodilla NUORISO20
LOCATION:Pirkkolan urheilukenttä\, Helsinki\, Suomi
URL:http://ssl.eventilla.com/pikajuoksukurssi-pirkkola-10-5-2023
END:VEVENT
END:VCALENDAR
