BEGIN:VCALENDAR
METHOD:PUBLISH
VERSION:2.0
PRODID:-//Eventilla iCal Syndication//NONSGML Liana//EN
BEGIN:VEVENT
UID:l9PlZ@eventilla.com
DTSTAMP:20260611T050000Z
DTSTART:20260611T050000Z
DTEND:20260611T130000Z
SUMMARY:Henkilönostinkoulutus
DESCRIPTION:Henkilönostinkoulutuksen sisältö\nKoulutus sisältää teoriaosuuden ja käytännön harjoittelun. Koulutus perustuu soveltuvin osin ISO 18878- ja ISO 18893 -standardeihin. Koulutussisällössä käymme läpi koneita ja laitteita koskevat lait ja asetukset. Opimme käyttöön liittyvää riskien hallintaa ja valitsemaan oikean nostimen työtehtävää varten. Tutustumme miten eri laitteet käytännössä toimivat\, mitä päivittäistarkastukset pitävät sisällään sekä mitä eri kilvet ja tarrat nostimessa tarkoittavat. Koulutuksen lopuksi suoritetaan sekä teoria-\, että käsittelykoe. Kurssin päätteeksi molemmat kokeet hyväksytysti suorittaneille myönnetään henkilönostinkortti.\n\nLait ja asetukset\nRiskien hallinta\nHenkilönostimen valinta\nKatsaus henkilönostimien ominaisuuksiin\nPäivittäinen tarkastus\nSuojainten käyttö henkilönostoissa\nTeoriakoe\nTutustuminen nostimiin\n\nHinattavat ja käsin siirrettävät henkilönostimet\nAjettavat saksilavat\nAjettavat puominostimet\nHinattavat teleskooppipuomi-ja nivelpuominostimet\n\n\nLaitteen toiminnat käytännössä\nPäivittäiset tarkastukset\nKilvet ja tarrat laitteessa\nKäyttöharjoituksia\nPerehtyminen nostimen rakenteisiin\n\nKoulutuksen päätteeksi teorian ja käytännön loppukokeen hyväksytysti suorittaneille myönnetään henkilönostinkortti.\nKoulutus pitää sisällään aamupäivän teoriaosuuden ja iltapäivän käytännönosuuden. Huomioithan\, että käytännönosuus suoritetaan ulkotiloissa\, joten varaa varusteet sään mukaan sekä normaalit ulkotyöskentelyn turvavarusteet. Myös henkilökohtaiset putoamissuojaimet hyvä ottaa mukaan.\nHenkilönostinkoulutuksen tavoite\nHenkilönostinkoulutuksessa havainnollistetaan vastuiden läpikäynnin ja esimerkkien kautta käytännön toimet\, joilla turvallisuus voidaan varmistaa monipuolisesti. Henkilönostinten kaikkien ominaisuuksien hallintaa ja oikeaa henkilönostimen käyttöä ei voi opetella ”kantapään kautta”.\nHenkilönostinkoulutuksen tavoitteet\n\nAntaa osallistujalle perustiedot ja taidot turvalliseen henkilönostimen käsittelyyn.\nOppia valitsemaan oikea henkilönostin kustannustehokkaaseen työskentelyyn.\nVähentää henkilövahingon ja henkilönostin vaurion riskiä.\nTodentaa työntekijän osaaminen ennen henkilönostimen käyttöluvan myöntämistä.\n\nHenkilönostinkoulutuksen kohderyhmä\nHenkilönostimia työssään käyttävät henkilöt. Koulutuksen tarkoituksena on kouluttaa henkilönostimen käyttäjiä tuntemaan henkilönostimien ominaisuudet sekä antaa riittävästi tietoa nostimien tehokkaasta ja turvallisesta käytöstä. Tämä koulutus soveltuu pohjaksi työnantajan myöntämälle kirjalliselle luvalle.
LOCATION:Cramo Vantaa\, Åbyntie 6\, 01730\, Vantaa
URL:http://ssl.eventilla.com/event/l9PlZ
END:VEVENT
END:VCALENDAR
