BEGIN:VCALENDAR
METHOD:PUBLISH
VERSION:2.0
PRODID:-//Eventilla iCal Syndication//NONSGML Liana//EN
BEGIN:VEVENT
UID:l9RVN@eventilla.com
DTSTAMP:20251107T180000Z
DTSTART:20251107T180000Z
DTEND:20251107T230000Z
SUMMARY:TEHTAAN SALAKAPAKKA: Cleaning Women
DESCRIPTION:\nCleaning Women palaa Tehtaalle pikana maaliskuisen\, vilauksessa loppuunmyydyn keikkansa jälkeen. Moni jäi viimeksi liputta\, mutta nyt koittaa uusi mahdollisuus kun yhtye saapuu Turkuun uuden albuminsa levynjulkkarikiertueella!Cleaning Women on jo yli 25 vuoden vuoden ajan  hämmästyttänyt yleisöä ympäri Tellusta yli 600:n keikan verran ainakin 25:ssä maassa. Yhtyeen soundin peruspalikkoina toimivat itserakennetut instrumentit ja kotitalouksista tutut esineet\, joita on modifioitu musiikillisiin tarpeisiin. Yhtyeen saundi on yhdistelmä taidokasta soittimenhallintaa\, uniikkeja äänimaisemia ja melodisesti sekä rytmillisesti rikasta musiikkia\, jota voisi kuvailla vaikkapa yhdistelmänä elokuvallista sci-fi länkkäriä ja kipinöivää roskalavadiskoa. Yhdessä yhtyeen yhtenäisen tummanpuhuvan ulkoasun ja muun visuaalisuuden kanssa kokonaisuus välittyy kokijalle tajuntaan tehokkaimmin nimenomaan live-tilanteessa. Cleaning Women on yhtye jonka tuotantoa ei välttämättä tarvitse tuntea etukäteen vaikuttuakseen keikalla.Yhtyeen viides albumi "Washer" julkaistaan lokakuussa Svart Recordsin toimesta.  Tulevaa levyä yhtye kommentoi itse näin: "Uusi levy on monipuolisinta Cleaning Womeniä koskaan. Pyykinkuivausteline on antanut hieman tilaa harmonioille\, mutta kyllä siellä on myös edelleen vahvasti perkussiivisia elementtejä. Ja aina vaan tietynlainen Cleaning Womenin dystooppinen perusvire paistaa läpi\, halusimme tai emme.”\nOvet aukeaa klo 20keikka klo 21.\nK18 \n\n 
LOCATION:TEHDAS TEATTERI\, Kulttuuritehdas Manilla, Itäinen Rantakatu 64B
 3B\, 20810\, Turku\, Suomi
URL:http://ssl.eventilla.com/event/l9RVN
END:VEVENT
END:VCALENDAR
