BEGIN:VCALENDAR
METHOD:PUBLISH
VERSION:2.0
PRODID:-//Eventilla iCal Syndication//NONSGML Liana//EN
BEGIN:VEVENT
UID:m48vV@eventilla.com
DTSTAMP:20180523T043000Z
DTSTART:20180523T043000Z
DTEND:20180523T070000Z
SUMMARY:Golfin Digiaamu - yhteistyössä GameBook
DESCRIPTION:FGMA järjestää yhteistyössä GameBookin kanssa Golfin Digiaamun 23.5.2018 Tapiola Golfissa sekä FGMA:n facebook- ryhmässä. Tapahtumaan on mahdollista osallistua paikasta riippumatta tietokoneen tai puhelimen välityksellä! Toivomme tietysti\, että mahdollisimman moni pääsisi paikalle nauttimaan aamiaista ja kuuntelemaan oman alansa huippuja. Tapahtuma on maksuton.
LOCATION:Tapiola Golf\, Turveradantie 17\, 02180\, Espoo\, Finland
URL:http://ssl.eventilla.com/event/m48vV
END:VEVENT
END:VCALENDAR
