BEGIN:VCALENDAR
METHOD:PUBLISH
VERSION:2.0
PRODID:-//Eventilla iCal Syndication//NONSGML Liana//EN
BEGIN:VEVENT
UID:m9Y53@eventilla.com
DTSTAMP:20210208T060000Z
DTSTART:20210208T060000Z
DTEND:20210214T140000Z
SUMMARY:Tampereen Tradenomien Ystävänpäivä & Valkoinen Puu
DESCRIPTION:Hei tradenomit ja ihanaa alkanutta vuotta 2021!\nTampereen seudun tradenomit ry järjestää helmikuussa ystävänpäivätempauksen paikallisen kahvilan Valkoisen Puun kanssa.\nHaluamme tulevan ystävänpäivän kunniaksi tarjota 30 ensimmäiselle tähän tapahtumaan ilmoittautuneelle 15€ lahjakortin Tampereen Valkoiseen Puuhun (Aleksis Kiven katu 24). Nappaa kahvilasta takeaway kakkukahvit mukaan itsellesi ja ystävällesi tai nauttikaa kahvilan herkullisista antimista paikan päällä paikalliset pandemiasuositukset huomioonottaen.\nHenkilökohtaiset lahjakortit välitetään ilmoittautuneille sähköpostitse 5.2. joten voit vierailla kahvilassa ystävänpäiväviikolla jo aiemminkin!
LOCATION:Kahvila Valkoinen Puu Tampere\, Aleksis Kiven katu 24\, 33200\,
 Tampere\, Suomi
URL:http://ssl.eventilla.com/event/m9Y53
END:VEVENT
END:VCALENDAR
