BEGIN:VCALENDAR
METHOD:PUBLISH
VERSION:2.0
PRODID:-//Eventilla iCal Syndication//NONSGML Liana//EN
BEGIN:VEVENT
UID:m9gJ0@eventilla.com
DTSTAMP:20210308T064500Z
DTSTART:20210308T064500Z
DTEND:20210328T205900Z
SUMMARY:Ina Mikkola: Ole oma itsesi!
DESCRIPTION:WEBINAARITALLENNE\nIna Mikkola: Ole oma itsesi!\nNaistenpäivän aamun spesiaalissa Ina Mikkola kertoo oman tarinansa kautta kuinka olla rohkeasti oma itsensä. Ina käsittelee seuraavia aiheita puheessaan\n\nMiten olla rohkeasti oma itsensä?\nMitä tarkoittaa rohkeus? Mitä tarkoittaa "olla oma itsensä"?\nMitä etua on olla rohkea ja oma itsensä?\nMiten kasvattaa rohkeutta?\nMiten luottaa itseensä ja omaan persoonaansa?\n\nPuhujana Ina Mikkola\n\nIna Mikkola on palkittu toimittaja\, ohjaaja ja kirjailija\, joka on käsitellyt töissään laajasti eri teemoja niin työelämän kipupisteistä seksuaalisuuteen kuin kyberturvallisuudesta päihdekulttuurin. Hänet tunnetaan mm. tv-ohjelmista Hullu juttu\, Ina <3 porno\, Ina <3 Suomi ja Ina Mikkolan Tilipäivä.\nTallenteen voivat katsoa kaikki Tradenomien jäsenet\, myös Kulta- ja Musta-tasojen opiskelijajäsenet.\nTallenne on katsottavissa 28.3. klo 23.59 asti.
LOCATION:Webinaaritallenne
URL:http://ssl.eventilla.com/naistenpaiva2021
END:VEVENT
END:VCALENDAR
