BEGIN:VCALENDAR
METHOD:PUBLISH
VERSION:2.0
PRODID:-//Eventilla iCal Syndication//NONSGML Liana//EN
BEGIN:VEVENT
UID:mZGrb@eventilla.com
DTSTAMP:20211119T220000Z
DTSTART:20211119T220000Z
DTEND:20211119T220000Z
SUMMARY:Opettajien sählyturnaus
DESCRIPTION:Opettajien sählyturnaus 20.11.21 Oulun Hiukkavaaratalolla!\nPelit pelataan 4 vs 4 ja kentällä on aina kaksi naista. Tarkempi otteluohjelma/-ohjeistus lähetetään ilmoittautumisajan jälkeen osallistujamäärän selvittyä. \nTurnauksessa noudatetaan salibandysääntöjä. \nIlmoittautumiset 1.11.2021 mennessä. Osallistumismaksu 10€/hlö laskutetaan ilmoittautumisajan päätyttyä. Maksu sisältää pelit\, Oulun erotuomarikerhon tuomaroinnin\, välipalatarjoilun sekä lounaan.\nTurnaus järjestetään yhteistyössä Koululiikuntaliiton\, Pohjois-Pohjanmaan alueyhdistyksen ja Oulun paikallisyhdistyksen kanssa.\nTervetuloa pelaamaan!\n\n 
LOCATION:Hiukkavaaratalo\, Tahtimarssi 3\, 90670\, Oulu
URL:http://ssl.eventilla.com/sahlyturnaus
END:VEVENT
END:VCALENDAR
