BEGIN:VCALENDAR
METHOD:PUBLISH
VERSION:2.0
PRODID:-//Eventilla iCal Syndication//NONSGML Liana//EN
BEGIN:VEVENT
UID:mbZ8d@eventilla.com
DTSTAMP:20190206T120000Z
DTSTART:20190206T120000Z
DTEND:20190206T131500Z
SUMMARY:Mielenterveyden voimavarat ja keinot yrittäjän kriiseissä
DESCRIPTION:Mielenterveyden voimavarat ja keinot yrittäjän kriiseissä 6.2.2019 klo 14.00-15.15\nWebinaari on osa Suomen Mielenterveysseuran ja Suomen Yrittäjien yhteistyössä kehittämää Kiltatoimintaa\, jolla tuetaan pien- ja yksinyrittäjien jaksamista.\n 
LOCATION:Etäkoulutus omalla koneella
URL:http://ssl.eventilla.com/kriisitilanteet
END:VEVENT
END:VCALENDAR
