BEGIN:VCALENDAR
METHOD:PUBLISH
VERSION:2.0
PRODID:-//Eventilla iCal Syndication//NONSGML Liana//EN
BEGIN:VEVENT
UID:mlwoq@eventilla.com
DTSTAMP:20211119T163000Z
DTSTART:20211119T163000Z
DTEND:20211119T200000Z
SUMMARY:We Are Here Ball
DESCRIPTION:We Are Here Ball\nWE ARE HERE BALL SIIRTYY JÄRJESTETTÄVÄKSI SATEENKAARIHISTORIAKUUKAUDELLE\, MARRASKUULLE 2021\nHaluamme järjestää tapahtuman turvallisesti ja vastuullisesti – mutta tunnelmasta tinkimättä – jonka johdosta We Are Here Ball -tapahtuma siirretään järjestettäväksi sateenkaarihistoriakuukaudelle 2021\, tarkemmin 19.11.2021.\nLipun jo hankkineille toimitetaan automaattisesti 14.6. jälkeen uudet liput uudella päivämäärällä.\nJos haluat palauttaa jo hankkimasi lipun\, otathan meihin 14.6. mennessä sähköpostitse yhteyttä rahojen palauttamista ja lipun peruuttamista varten osoitteeseen kansallismuseo@kansallismuseo.fi. Lipunmyynti avataan uudelleen myöhemmin syksyn tapahtumarajoitusten selvitessä.\n**\nKansallismuseon ainutlaatuisessa ympäristössä\, keskihallin freskojen alla\, juhlistetaan elämää\, yhdenvertaisuutta ja nähdyksi tulemista We Are Here Ball -tapahtumassa.\nTervetuloa juhlistamaan elämää – rakkautta ja vapautta!
LOCATION:Kansallismuseo\, Mannerheimintie 34\, 00100\, Helsinki
URL:http://ssl.eventilla.com/wearehereball
END:VEVENT
END:VCALENDAR
