BEGIN:VCALENDAR
METHOD:PUBLISH
VERSION:2.0
PRODID:-//Eventilla iCal Syndication//NONSGML Liana//EN
BEGIN:VEVENT
UID:n66aA@eventilla.com
DTSTAMP:20190927T050000Z
DTSTART:20190927T050000Z
DTEND:20190927T133000Z
SUMMARY:Hygienia ja aseptiikka eläinklinikalla
LOCATION:Steripolar Oy\, Sinimäentie 8\, 02630\, Espoo
URL:http://ssl.eventilla.com/hygienia_ja_aseptiikka_2019
END:VEVENT
END:VCALENDAR
