BEGIN:VCALENDAR
METHOD:PUBLISH
VERSION:2.0
PRODID:-//Eventilla iCal Syndication//NONSGML Liana//EN
BEGIN:VEVENT
UID:n86Xv@eventilla.com
DTSTAMP:20191101T063000Z
DTSTART:20191101T063000Z
DTEND:20191101T130000Z
SUMMARY:SOSIAALISEN MEDIAN YLLÄPITÄJÄN TYÖKALUT- KOULUTUS 1.11.2019
DESCRIPTION:FGMA koulutuspäivä: SOSIAALISEN MEDIAN YLLÄPITÄJÄN TYÖKALUT\nYlläpidätkö yhtä tai useampaa sosiaalisen median sivustoa organisaatiossasi? Olet ehkä huomannut\, miten työlästä on saada sama sisältö levitettyä eri sosiaalisen median kanaviin ja ylipäätään hallita sosiaalista mediaa. Tässä koulutuksessa tutustumme työkaluihin\, joilla tilannetta voi helpottaa. Koulutuksessa opit\, kuinka voit tehokkaasti hallinnoida useaa sosiaalisen median tiliä kerralla\, aikatauluttaa julkaisuja\, löytää julkaistavaa sisältöä ja analysoida sosiaalista mediaa entistä tarkemmin. FGMA:n palvelupäälliköiden toimikunta järjestää tämän koulutuksen yhdessä Wistec Trainingin kanssa. Kouluttajana Esa Riutta.\nKenelle? Koulutus sopii niille\, jotka ylläpitävät organisaationsa sosiaalisen median tilejä yksin tai yhteistyössä muiden kanssa ja haluavat tehdä tästä urakasta helpomman. Koulutus on suunnattu erityisesti palvelu-/toimistopäälliköille.\nMissä? Talin Kartano\, Talin Puistotie 12\, 00380 Helsinki\nMilloin? PE 1.11.2019 klo 8.30-15.00\nKustannus FGMA:n jäsenille on 50 euroa (sis. koulutus\, aamukahvit\, lounas ja iltapäiväkahvit)\nIlmoittaudu torstaihin 24.10.2019 mennessä Eventillan kautta (muistathan ilmoittaa mahdolliset erikoisruokavaliot). Mukaan mahtuu 20 ensimmäisenä ilmoittautunutta.
LOCATION:Helsingin Golfklubi\, Talin puistotie 12\, 00380\, Helsinki
URL:http://ssl.eventilla.com/event/n86Xv
END:VEVENT
END:VCALENDAR
