BEGIN:VCALENDAR
METHOD:PUBLISH
VERSION:2.0
PRODID:-//Eventilla iCal Syndication//NONSGML Liana//EN
BEGIN:VEVENT
UID:nAJOy@eventilla.com
DTSTAMP:20150505T050000Z
DTSTART:20150505T050000Z
DTEND:20150505T073000Z
SUMMARY:Yhteistyöroolit - aamiaistilaisuus
DESCRIPTION:Yhteistyöroolit - aamiaistilaisuus\nTervetuloa maksuttomaan aamiaistilaisuuteemme\, jossa saat kevyen aamukahvin lisäksi runsaasti eväitä sovellettavaksi arkipäivässäsi: 80 prosenttia aamiaistilaisuuksiimme osallistuneista kertoo soveltaneensa aamiaistilaisuudessa oppimaansa työnsä arjessa.\nMikä on sinulle luontainen yhteistyörooli? Mikä merkitys itsensä tuntemisella on yhteistyön tekemisen näkökulmasta? Millaisia yhteistyörooleja on tunnistettavissa ja mitä vaikutuksia eri rooleilla on ryhmän kokonaisdynamiikkaan ja tehokkaaseen toimintaan? Miten johdat ja työskentelet itsellesi vastakkaisissa rooleissa toimivien ihmisten kanssa menestyksekkäästi?\nTilaisuus sopii kaikille\, jotka johtavat tai tekevät tiimityötä.\nAamiaista tarjoillaan klo 8.00 alkaen\, varsinainen ohjelma käynnistyy 8.30 ja loppuu viimeistään klo 10.30.\nTilaisuuden vetäjänä toimii Agenssin psykologi Wäinö Huhtala\, PsL ja emäntänä kehittämiskonsultti Ilse Manner\, YTM.\nKysy lisää Ilseltä: ilse.manner@agenssi.fi tai + 358 45 12 732 12\n 
LOCATION:Agenssin toimisto\, Pohjoinen rautatiekatu 15 B 12\, 00100\,
 Helsinki
URL:http://ssl.eventilla.com/toukokuu_aamiainen
END:VEVENT
END:VCALENDAR
