BEGIN:VCALENDAR
METHOD:PUBLISH
VERSION:2.0
PRODID:-//Eventilla iCal Syndication//NONSGML Liana//EN
BEGIN:VEVENT
UID:nAr4G@eventilla.com
DTSTAMP:20190508T053000Z
DTSTART:20190508T053000Z
DTEND:20190508T084500Z
SUMMARY:Tunne ja Teknologia - IAB seminaari
DESCRIPTION:IAB:n Tunne ja Teknologia seminaari\nMiten tunteet ja teknologia kohtaavat? Miten teknologia auttaa tunteiden muovaamisessa ja mittaamisessa? Voimmeko kohdistaa mainontaa tunteiden perusteella? Tunteiden herättäminen on ollut markkinoinnin ytimessä sen synnystä asti. Viime vuosina tunteiden rinnalla on keskusteltu vilkkaasti markkinoinnin teknologioista\, kuten ohjelmallisesta ostamisesta\, markkinoinnin automaatiosta ja datasta. Nyt on aika puhua niistä yhdessä.\nIAB:n Markkinointiteknologia-työryhmän asiantuntijat ovat koonneet ohjelman ajankohtaiseen Tunne ja Teknologia -aamupäiväseminaariin. Käsittelemme seminaarissa\, miten dataa\, koneoppimista\, pelillistämistä\, sosiaalista mediaa ja ääntä voidaan hyödyntää tunnepohjaisessa markkinoinnissa. Luvassa on havainnollistavia case-kuvauksia esimerkiksi siitä\, miten Tieto on käyttänyt dataa tunteiden tunnistamisessa ja miten Bauer Media on luonut myyntiä edistäviä äänimaisemia.\nTervetuloa!\nTilaisuus on yhteistyökumppaneidemme tarjoama eli sinulle osallistujana maksuton.\nOhjelma\n08.30    Aamukahvit\n09.00    Tervetuloa - Birgitta Takala\, toiminnanjohtaja\, IAB Finland\n09.10   Alustus aamupäivän seminaariin. - Tommi Pelkonen\, strategiajohtaja\, SEK\n09.30   Ennakoiva analytiikka vai tunnepohjainen aavistus kumpi toimii paremmin? - Matti Airas\, johtava konsultti\, Tieto Customer Experience Management\nMonella ihmisellä näkyy hetken tunne pinnassa: asento ja ilme kertovat paljon. Jos tunnet henkilön hyvin\, kykenet jopa ennustamaan pidemmän ajan käyttäytymistä. Suuren ihmisjoukon tunteiden ymmärrys\, etenkin digitaalisen kanavan toisessa päässä\, vaatii teknologiaan perustuvia "antureita". Silmäparia ja tunnepohjaista aavistusta ei voita mikään\, mutta hyvillä työkaluilla ja datan älykkäällä hyödyntämisellä päästään yllättävän pitkälle\n09.50   Ääni\, tunne ja data - Lauri Domnick\, Head of Audio Branding\, Bauer Media\nMiten brändit voivat hyödyntää ääntä markkinoinnissa ja asiakastiloissa? Miten äänen aiheuttamat tunteet mitataan ja käännetään positiiviseksi kassavirraksi?\n10.10 Tunteet Vs. Data (verkko)kaupankäynnissä - Mika Räihä\, SCM Suomi Oy\, Petri Kokkonen\, Relevant Digital Oy\n300 miljoonaa vierailua vuodessa Suomen suurimmassa markkinapaikassa kertoo paljon meistä suomalaisista. Schibstedt ja Relevant Digital selvittivät kyselytytkimuksella ja alan suurimpaan dataan peilaten suomalaisten ostamiseen liittyviä ajankohtaisia asenteita.\n10.30  Kahvitauko\n10.50  Case YIT - Tekoäly ja tunneanalyysi - Niina Pakkala\, Head of Digital Marketing\, YIT ja Heini Nuutinen\, Markkinoinnin kehitys- ja muutoskonsultti\, Dagmar\nYIT:n ja Dagmarin asiantuntijat kertovat mitä ja miten tunteita voidaan hyödyntää\, mitata ja havainnoida teknologioilla\n11.10   Miten tunteisiin ja ostoprosessiin voidaan vaikuttaa pelillistämisen keinoin? Case Viking Line - Max Söderholm\, Country Lead\, Lead:famly\nPelit saavat yleisössä dopamiinin virtaamaan ja brändin jäämään mieleen. Koko ostopolun pelillistäminen tuottaa sekä innostavan asiakaskokemuksen\, että molempia osapuolia hyödyttävää dataa - enemmän\, nopeammin ja helpommin kuin perinteiset menetelmät.\n11.30   Yhteenveto ja seminaarin päätös -Eliisa Puikkonen\, IAB Markkinointiteknologian työryhmän puheenjohtaja\nMikäli et pääse paikalle\, peruthan paikkasi tiistaihin 7.5.2019 mennessä. Peruuttamattomista lipuista veloitamme 50 euroa käsittelykulua.
LOCATION:Kinopalatsi\, Kaisaniemenkatu 2\, Helsinki
URL:http://ssl.eventilla.com/event/nAr4G
END:VEVENT
END:VCALENDAR
