BEGIN:VCALENDAR
METHOD:PUBLISH
VERSION:2.0
PRODID:-//Eventilla iCal Syndication//NONSGML Liana//EN
BEGIN:VEVENT
UID:nX5PD@eventilla.com
DTSTAMP:20210828T120000Z
DTSTART:20210828T120000Z
DTEND:20210828T140000Z
SUMMARY:Là-bas→ Äänen tulo
DESCRIPTION:Äänen tulo -keskustelutilaisuudessa on puhe siitä\, kuinka 2000-luvun alun Helsingissä performanssi-\, media- ja äänitaide\, Helsingin undergroundin traditio ja uuden vuosituhannen DIY-musiikkikulttuuri löysivät toisensa Studio Là-bas’ssa Kaapelitehtaan kellarissa sekä lukuisissa muissa vaihtoehtoisissa tiloissa Helsingissä.\nTilaisuudessa tarkastellaan\, mistä 2000-luvun alun skenessä oli kysymys analysoimalla niitä tekijöitä\, jotka mahdollistivat muotojen kohtaamisen\, skenerajojen ylittämisen\, erilaisten tilojen haltuunoton ja ennen kaikkea tuonaikaisten tapahtumien äänelliset ja taiteelliset sisällöt.\nTilaisuuden alustaa Là-bas-projektin perustaja Lauri Luhta\, ja keskustelua johtaa äänitaiteen asiantuntija ja äänitaidegalleria Akusmatan ylläpitäjä Petri Kuljuntausta. Muut keskustelijat ovat Anton Nikkilä (Avanto-festivaali)\, Taneli Viitahuhta (Potlach-tapahtumat) ja Henri Kurko (Radio Hear\, Hear ry).\nKeskustelun loppupuolella on tilaa yleisökysymyksille.\nTapahtuma on osa Tiloissa - Omaehtoisia musiikin paikkoja Helsingissä -näyttelyn ohjelmaa. \nTapahtuma on ilmainen\, mutta ennakkoilmoittautumista suositellaan. Tapahtumaan otetaan osallistujia myös ilman ennakkolippua\, jos paikkoja on jäljellä.\nIlmoittautumisen jälkeen saat lipun ilmoittamaasi sähköpostiosoitteeseen. Tapahtumassa noudatetaan olemassa olevia rajoituksia ja riittäviä turvavälejä. Suosittelemme maskin käyttöä museon tiloissa kaikille yli 12-vuotiaille.\nHaluamme tehdä museokäynnistä sinulle mahdollisimman onnistuneen ja turvallisen. Olemme koostaneet sinulle tietoa toiminnastamme ja yhteisistä ohjeista\, joita noudatamme itse ja toivomme myös kaikkien vierailijoidemme noudattavan. Tervetuloa turvallisesti museoon! Tutustu ohjeisiin: Turvallisesti kaupunginmuseoon
LOCATION:Helsingin kaupunginmuseo\, Aleksanterinkatu 16\, 00100\,
 Helsinki\, Suomi
URL:http://ssl.eventilla.com/la-bas
END:VEVENT
END:VCALENDAR
