BEGIN:VCALENDAR
METHOD:PUBLISH
VERSION:2.0
PRODID:-//Eventilla iCal Syndication//NONSGML Liana//EN
BEGIN:VEVENT
UID:nX5Xz@eventilla.com
DTSTAMP:20210811T140000Z
DTSTART:20210811T140000Z
DTEND:20210811T150000Z
SUMMARY:Palestine Cultural Week: The Palestinian Keffiyeh: The Symbol of Resistance
DESCRIPTION:This program offers a review of the history of the Palestinian keffiyeh and how this headscarf turned into a symbol of resistance. Learn about how the keffiyeh is worn today and its importance as a symbol of the Palestinian cause. The program will be presented by Dr. Yehia Zakaria Al-Agha\, ambassador for cultural and educational affairs at the Palestinian Embassy and Vice-Chairman of the Palestinian Schools Board. He has many literary publications\, including illuminations in contemporary Palestinian poetry in two parts and many literary and political articles.\nThe session will be held in Arabic with interpretation in English.\nThe event will be conducted online via Zoom.\nDate: 11 August 2021 \nTime: 5:00 – 6:00 PM \nLanguage: Arabic and English \nTarget Audience: General public  \nSeats are limited\, please click the button below to register.
LOCATION:Online via Zoom
URL:http://events.qnl.qa/event/nX5Xz
END:VEVENT
END:VCALENDAR
