BEGIN:VCALENDAR
METHOD:PUBLISH
VERSION:2.0
PRODID:-//Eventilla iCal Syndication//NONSGML Liana//EN
BEGIN:VEVENT
UID:nXXV1@eventilla.com
DTSTAMP:20180524T103000Z
DTSTART:20180524T103000Z
DTEND:20180524T140000Z
SUMMARY:Digitaalisen liiketoiminnan jatkuvuuden varmistamien
DESCRIPTION:Digitaalisen liiketoiminnan jatkuvuuden varmistaminen\nTiedon reaaliaikainen saatavuus on tämän päivän liiketoiminnan edellytys. Miten palvelujen jatkuvuus on varmistettu teidän yrityksessänne?\nTervetuloa kuulemaan moderneista\, ketteristä ja kustannustehokkaista tavoista varmistaa palveluiden saatavuus sekä on-premises että pilvipalveluissa.\nCinia\, HardCoreIT ja Veeam järjestävät yhdessä BackUp ja Disaster Recovery\n-ratkaisuihin keskittyvän iltapäivätilaisuuden torstaina\n24.05.2018 klo 13.30. \nPuheenvuorojen jälkeen sinulla on mahdollisuus tutustua Cinian\, HardCoreIT:n ja Veeamin ratkaisuihin käytännössä pikkupurtavan ja palanpainikkeen kera. Kesälahjaksi saat mukaasi leffaliput kahdelle hengelle.\nTilaisuus pidetään Cinian uusissa toimitiloissa\, Ilmalassa\, Helsingissä.\n13.30Rekisteröityminen ja kahvit \n14.00Tervetuloa!Ari-Jussi Knaapila\, Toimitusjohtaja\, CiniaMiksi jokaisella yrityksellä pitäisi olla jatkuvuussuunnitelma?Kristian Nieminen\, Liiketoimintajohtaja\, CiniaJose Pikkarainen\, Systems Engineer\, Veeam    Näin varmistat Office 365 -ympäristösiPetri Jeskanen\, Co-founder/Partner\, HCIT \nCase OPR-Vakuus: Liiketoiminnan jatkuvuuden varmistaminen muutoksessaJouni Selin\, Group Chief Information Officer and CDO\,OPR-Vakuus \n15.30Mahdollisuus tutustua Cinian\, HCIT:n ja Veeamin ratkaisuihin käytännössä. Tarjolla pikkupurtavaa ja palanpainiketta. \n17.00Tilaisuus päättyy \nLämpimästi tervetuloa!\nKristian Nieminen                               Jarmo Kuljunlahti        Liiketoimintajohtaja                              CEOCinia                                                         HCIT\n 
LOCATION:Cinian toimitilat, Ilmalan Asema -toimitalo\, Ilmalantori 1\,
 00240\, Helsinki
URL:http://events.cinia.fi/event/nXXV1
END:VEVENT
END:VCALENDAR
