BEGIN:VCALENDAR
METHOD:PUBLISH
VERSION:2.0
PRODID:-//Eventilla iCal Syndication//NONSGML Liana//EN
BEGIN:VEVENT
UID:nXkKY@eventilla.com
DTSTAMP:20220518T063000Z
DTSTART:20220518T063000Z
DTEND:20220518T083000Z
SUMMARY:Henkilökuntaedut verotuksessa
DESCRIPTION:Henkilökuntaedut verotuksessa\n18.5.2022 Webinaari\nHieronta\, sählyvuoro\, merkkipäivälahja\, sairauskuluvakuutus\, virkistyspäivä tai etäpikkujoulut - työnantaja voi antaa henkilöstölle monenlaisia etuja. Tietyin edellytyksin henkilöstöedut ovat verovapaita. Osallistu webinaariin kuullaksesi\, millaisia etuja verotuksen näkökulmasta on järkevä tarjota.\nWebinaarissa käsitellään verovapaiden henkilökuntaetujen edellytyksiä ja ongelmakohtia sekä uusinta verohallinnon ohjeistusta ja oikeuskäytäntöä. Työoikeudellisia asioita ei käsitellä.\nOHJELMA\n\nVerovapaa henkilökuntaetu vai palkkio työsuorituksesta?\nOsakkaan henkilökuntaedut\nVeronalaisten etujen käsittely\nMinkälaisia lahjoja henkilökunnalle voi antaa?\nTyöterveyshuolto ja sairaanhoitovakuutus\nVirkistys- ja harrastustoiminta\n\nLUENNOITSIJA\nLakiasiainjohtaja Kati Malinen\, Veronmaksajat\nAIKATAULU\nLuentoaika klo 9.30 – 11.30\nOsallistuminen webinaariin on helppoa millä tahansa laitteella\, jossa on internet-yhteys ja kaiuttimet. Kirjallinen kurssimateriaali\, osallistumislinkki ja ohjeet yhteyden avaamista varten lähetetään etukäteen sähköpostitse.\nSaat koulutuksen jälkeen tallenteen webinaarista. Tallenne on katsottavissa kuukauden ajan.\nHINTA\nVeronmaksajien jäsenille 220 € + alv\, muille 280 € + alv
LOCATION:Webinaari
URL:http://ssl.eventilla.com/event/nXkKY
END:VEVENT
END:VCALENDAR
