BEGIN:VCALENDAR
METHOD:PUBLISH
VERSION:2.0
PRODID:-//Eventilla iCal Syndication//NONSGML Liana//EN
BEGIN:VEVENT
UID:ng80d@eventilla.com
DTSTAMP:20151106T070000Z
DTSTART:20151106T070000Z
DTEND:20151106T130000Z
SUMMARY:Ilmioppi 2: Ilmiöpohjainen oppiminen ja uudet opsit
DESCRIPTION:Ilmiöpohjaisuus\, ainerajojen ylittäminen\, laaja-alainen osaaminen\, monialaiset oppimiskokonaisuudet ja teemaopinnot - POPS2014 ja LOPS2016 tulevat!\nLähdetään viemään yhdessä ilmiöpohjaista oppimista uusien perusopetuksen ja lukion opetussuunnittelmien perusteiden mukaiseen suuntaan. Syvennetään jo tiedettyä\, jaetaan kokemuksia ja rakennetaan yhdessä konkreettisia ilmiökokonaisuuksia.\n \nEnsitapaamisen aikataulu:\n9.00-9.15       Aamukahvia ja yhdessäoloa sekä päivän aloitus\n9.15-10.15     Esittäytymiset\, kuulumiset ja kokemusten vaihtoa\n10.15-11.30   Teoria- ja käsiterulettia sekä toiminnallista työskentelyä\n11.30-12.30   Lounas\n12.30-13.45   Mikä ilmiöpohjaisessa oppimisessa on merkityksellistä? Ilmioppi 2:n sisältöjen etsimistä\n13.45-14.15   Kahvia\, teetä ja jaloittelua\n14.15-15.00   Päivän koonti ja tulevan työskentelyn organisoiminen\n \nTapahtuma on maksuton. Kokonaisuus sisältää kolme lähitapaamista Helsingissä 6.11.2015\, 5.2.2016 ja 22.4. sekä näiden välillä etätapaamisia ja itsenäistä työskentelyä verkossa.\nLisätietoja:\nAki Luostarinenaki.luostarinen ( a ) otavanopisto.fi050 311 7255 
LOCATION:Vanha Ylioppilastalo, Tiedekuntasali (2 krs.)\, Mannerheimintie
 3\, 00100\, Helsinki\, Finland
URL:http://ilmoittautuminen.otavanopisto.fi/event/ng80d
END:VEVENT
END:VCALENDAR
