BEGIN:VCALENDAR
METHOD:PUBLISH
VERSION:2.0
PRODID:-//Eventilla iCal Syndication//NONSGML Liana//EN
BEGIN:VEVENT
UID:ngW3M@eventilla.com
DTSTAMP:20211201T070000Z
DTSTART:20211201T070000Z
DTEND:20211203T140000Z
SUMMARY:18th ETMU Conference: After Crises – Diversity and Dialogue
DESCRIPTION:18th Etmu Conference: After Crises – Diversity and Dialogue\n \nThe 18th Society for the Study of Ethnic Relations and International Migration (ETMU) conference will be organized at the University of Oulu\, Finland\, on 2-3 December 2021. The conference focuses on what happens after a crisis – such as a pandemic\, an environmental crisis\, conflicts between nation-states\, and forced migrations – from the viewpoint of migration\, minorities\, and indigenous peoples. We also invite scholars to critically examine how crises are constructed in public and academic discussions.
LOCATION:University of Oulu/Online\, Oulu
URL:http://ssl.eventilla.com/etmuconference
END:VEVENT
END:VCALENDAR
