BEGIN:VCALENDAR
METHOD:PUBLISH
VERSION:2.0
PRODID:-//Eventilla iCal Syndication//NONSGML Liana//EN
BEGIN:VEVENT
UID:ngabO@eventilla.com
DTSTAMP:20171026T060000Z
DTSTART:20171026T060000Z
DTEND:20171026T130000Z
SUMMARY:Listaamattomia mahdollisuuksia 2017
DESCRIPTION:Syksyn mielenkiintoisin sijoittajatapahtuma – Listaamattomia mahdollisuuksia 2017\nJo perinteeksi muodostunut ja odotettu Privanetin Listaamattomia mahdollisuuksia -sijoittajatapahtuma järjestetään torstaina 26.10.2017 Vanhalla Ylioppilastalolla. Päivä alkaa lennokkaasti paneelikeskustelulla\, jossa ratkotaan suomalaisten pienten ja keskisuurten yritysten kasvurahoittamisen mahdollisuuksia. Toinen keskustelu joukkorahoituksesta käydään heti lounaan jälkeen klo 13. Tilaisuudessa kuulet lisäksi monipuolisesti eri toimialojen yritysten esittelyjä heidän liiketoiminnastaan ja kasvupolustaan. Päivän huipentaa kasvuyrityskilpailun finaali\, johon esiraati on valinnut 3 kiinnostavinta kotimaista kasvuyhtiötä.Aika: 26.10. klo 9-15.45 (aamukahvia tarjolla klo 8.30 alkaen)Paikka: Vanha Ylioppilastalo\, HelsinkiPÄIVÄN OHJELMA\nKlo 8.30-9.00 AamukahvitKlo 9.00 Privanet\, Roy Harju\, hallituksen puheenjohtajaKlo 9.20 Paneelikeskustelu\, suomalaisten pk-yritysten rahoitusmahdollisuudet\, moderaattorina Karri Salmi- Keskustelussa mukana Elina Lepomäki (kansanedustaja)\, Aapo Bovellan (mm. Supercell-brändäri)\, Curt Lindbom (mm. aiemmin Ponssen ja Hackmannin tj) ja Juha Malm (LähiTapiolan sijoitusjohtaja).Klo 10.00 Keynote\, Henrik Dettmann\, Susijengin päävalmentajaKlo 10.40 Fly Nano Oy\, Mika Suila\, toimitusjohtaja\, partnerKlo 11.00 FundedByMe\, Raine Luomanen\, sijoitusjohtajaKlo 11.20 Mumin Kaffe\, Sanna Kiiski\, toimitusjohtajaKlo 11.40 Euroloan Group Oyj\, James Hickson\, toimitusjohtaja Klo 12.00 Lounas Klo 13.00 Paneelikeskustelu\, joukkorahoituksen haasteet ja mahdollisuudet\, moderaattorina Kimmo Lönnmark- Keskustelussa mukana Päivi Jääskeläinen (OP-Joukkorahoitus)\, Sakari Korpela (Fundu)\, Lasse Mäkelä (Invesdor) ja Raine Luomanen (FundedByMe).Klo 13.40 BCaster Oy\, Janne Neuvonen\, toimitusjohtajaKlo 14.00 Realinvest – kiinteistöjen joukkorahoitus\, Kimmo Lönnmark\, Privanet Securities Oy\, toimitusjohtajaKlo 14.10 Gos Consulting Oy\, Jan-Peter Hautaniemi\, hallituksen puheenjohtaja\, partnerKlo 14.20 KPY\, Lauri Kerman\, toimitusjohtajaKlo 14.40 Nordic Growth Market\, Roger Peleback\, toimitusjohtajaKlo 14.55 Boerse Stuttgart\, Dr. Michael Völter\, hallituksen puheenjohtajaKlo 15.10 Kasvuyrityskilpailun finaali- Kisaa tuomaroivat Antti Parviainen (Innovestor)\, Timo Mäkelä (Prudentus) ja Raine Luomanen (FundedByMe). Tilaisuus päättyy n. klo 16.00\nTervetuloa!Privanet\nMikäli tilaisuus on täynnä tai et pääse osallistumaan paikan päälle\, voit katsoa lähetystä suorana netin kautta.\nKatso täältä >>\n 
LOCATION:Vanha Ylioppilastalo\, Mannerheimintie 3\, 00100\, Helsinki\,
 Finland
URL:http://tapahtumat.privanet.fi/event/ngabO
END:VEVENT
END:VCALENDAR
