BEGIN:VCALENDAR
METHOD:PUBLISH
VERSION:2.0
PRODID:-//Eventilla iCal Syndication//NONSGML Liana//EN
BEGIN:VEVENT
UID:npVgO@eventilla.com
DTSTAMP:20210808T150000Z
DTSTART:20210808T150000Z
DTEND:20210808T160000Z
SUMMARY:Palestine Cultural Week: Discuss the Book "Kilimanjaro Spirit"
DESCRIPTION:Join us in our Arabic book club for a special book discussion on the novel\, Kilimanjaro Spirit\, by Ibrahim Nasrallah. We will talk about the book and shed light on the Palestinian cause and how it is depicted in novels.\nThe event will be conducted online via Microsoft Teams.\nDate: 8 August 2021 \nTime: 6:00 – 7:00 PM \nLanguage: Arabic \nTarget Audience: General public  \nSeats are limited\, please click the button below to register.
LOCATION:Online via Microsoft Teams
URL:http://events.qnl.qa/event/npVgO
END:VEVENT
END:VCALENDAR
