BEGIN:VCALENDAR
METHOD:PUBLISH
VERSION:2.0
PRODID:-//Eventilla iCal Syndication//NONSGML Liana//EN
BEGIN:VEVENT
UID:npVpZ@eventilla.com
DTSTAMP:20210825T160000Z
DTSTART:20210825T160000Z
DTEND:20210825T200000Z
SUMMARY:Vadelmagaala
DESCRIPTION:Vadelma ry juhlistaa omaehtoisen elävän musiikin ja visuaalisen taiteen mehukasta liittoa kaupunginmuseossa järjestettävässä Vadelmagaalassa.\n \nLämminhenkisen gaalaillan orgaaninen kokonaisuus muodostuu monista sävyistä. Esiintyjinä nähdään Ewu\, Alinen\, Elske\, Klava ja the Rattlesnake Shakers. Performansseja esittävät Maija Saksman ja Seppo Renvall sekä Jay Walking. Tapahtuman visuaaleista vastaavat Random Doctors VJ-kollektiivi ja VJ Noadi.\nHienojen esitysten ohessa Vadelmagaalassa jaetaan UGH-palkintoja elävän kulttuurin taustalla vaikuttaville tai muuten ansioituneille UnderGroundHahmoille.\nTapahtuma järjestetään kaupunginmuseon ala-aulassa.\nTiloissa - Omaehtoisia musiikin paikkoja Helsingissä -näyttely on avoinna klo 23 saakka.\n \nTapahtuma on osa Tiloissa - Omaehtoisia musiikin paikkoja Helsingissä -näyttelyn ohjelmaa. Tapahtuman tuottaa Visuaalisen taiteen ja elävän musiikin yhdistys Vadelma ry yhdessä kaupunginmuseon kanssa.\nTapahtuma lähetetään suorana vadelmalive.net kanavalla.\nLisätiedot: www.vadelma.org\nTapahtuma on ilmainen\, mutta ennakkoilmoittautuminen vaaditaan. Ilmoittautumisen jälkeen saat lipun ilmoittamaasi sähköpostiosoitteeseen. Lippu tarkistetaan tapahtumapaikalla. Tapahtuman osallistujamäärä on rajoitettu. Tapahtumassa noudatetaan riittäviä turvavälejä. Suosittelemme maskin käyttöä museon tiloissa kaikille yli 12-vuotiaille.\nHaluamme tehdä museokäynnistä sinulle mahdollisimman onnistuneen ja turvallisen. Olemme koostaneet sinulle tietoa toiminnastamme ja yhteisistä ohjeista\, joita noudatamme itse ja toivomme myös kaikkien vierailijoidemme noudattavan. Tervetuloa turvallisesti museoon! Tutustu ohjeisiin: Turvallisesti kaupunginmuseoon
LOCATION:Helsingin kaupunginmuseo\, Aleksanterinkatu 16, Falkmanin piha\,
 00100\, Helsinki\, Suomi
URL:http://ssl.eventilla.com/vadelmagaala
END:VEVENT
END:VCALENDAR
