BEGIN:VCALENDAR
METHOD:PUBLISH
VERSION:2.0
PRODID:-//Eventilla iCal Syndication//NONSGML Liana//EN
BEGIN:VEVENT
UID:npYLv@eventilla.com
DTSTAMP:20200826T150000Z
DTSTART:20200826T150000Z
DTEND:20200826T160000Z
SUMMARY:Joukkuehenkeä työyhteisöön
DESCRIPTION:Työ ja siinä saavutetut tavoitteet voivat tuottaa tyydytystä ja merkityksellisyyttä elämäämme. Itse työ on kuitenkin vain osa totuutta. Yhtä merkityksellistä on yhteisöstä saatu tuki ja päivittäiset kohtaamiset. Tämän ovat voineet huomata erityisen hyvin ne\, jotka työskentelevät yksin.\nTässä webinaarissa pureudutaan tämän aiheen ytimeen ja tutkitaan ja opitaan yhdessä\, miten tehtävätavoitteen lisäksi sosiaalinen tavoite on merkittävä osa sitä\, millaiseksi koemme elämämme ja miten voimme energisoitua toinen toisistamme.\nPuhuja\nMatti Henttinen on mentaalivalmentaja\, jonka fokuksena on työhyvinvointi ja urheilijoiden henkinen valmennus. Matti on vetänyt erilaisia johtamisen\, oppimisen ja vuorovaikutustaitojen koulutuksia ja valmennusprosesseja yli 20 vuotta.\nVahva asiantuntemus\, rento olemus ja filosofinen viisaus ovat Matin tavaramerkki. Hän osaa todella ottaa yleisönsä ja haastaa kuulijan uudenlaiseen ajatteluun. Ilmiömäisen tarinankerrontataitonsa ansiosta hänen viisaudet painuvat kuulijan mieleen ja tuottavat tuloksia. Matti antaa siivet\, joilla lentää menestykseen!\nKoulutuksen toteuttaa yhteistyökumppanimme UP Partners.\nIlmoittautuminen\nIlmoittaudu mukaan Uraportaalin kautta. \nWebinaarit tulevat näkyviin sisäänkirjautumisen jälkeen.\nPortaaliin kirjaudutaan samoilla tunnuksilla kuin muihinkin Tradenomien sähköisiin palveluihin.
LOCATION:Webinaari
URL:http://ssl.eventilla.com/joukkuehenkeatyoyhteisoon
END:VEVENT
END:VCALENDAR
