BEGIN:VCALENDAR
METHOD:PUBLISH
VERSION:2.0
PRODID:-//Eventilla iCal Syndication//NONSGML Liana//EN
BEGIN:VEVENT
UID:npzl3@eventilla.com
DTSTAMP:20190823T210000Z
DTSTART:20190823T210000Z
DTEND:20190823T210000Z
SUMMARY:Avoimien ovien päivä: tutustumiskierros Kittilän kaivokselle
DESCRIPTION:Tervetuloa tutustumaan Kittilän kultakaivokseen!\nKittilän kaivos on järjestänyt avoimien ovien päivän vuosittain vuodesta 2012 lähtien. Jokainen tapahtuma on ollut omanlaisensa – niin tänäkin vuonna. Nyt tapahtuman tekee ainutlaatuiseksi se\, että järjestämme avoimien ovien päivän yhdessä Kittilän kunnan\, Visit Levin ja Levi Ski Resortin kanssa. Luvassa on paljon mielenkiintoista nähtävää ja koettavaa!\nAvoimien ovien tapahtuma järjestetään lauantaina 24. elokuuta klo 10 – 15 Kittilän urheiluhallilla (Havutie 6). Lue lisää itse tapahtumasta ja sen sisällöstä verkkosivultamme.\nSamalla tarjoamme vierailijoille mahdollisuuden tutustua kaivosalueeseemme kiertoajeluilla. Kaivokselle on matkaa Kittilän keskustasta noin 50 kilometriä\, ja tutustumiskierros matkoineen kestää yhteensä noin 3 tuntia. Kiertoajeluoppaamme hyppäävät busseihin kaivoksen portilla ja kertovat kierroksen aikana toiminnastamme.\nBussit lähtevät Kittilän urheiluhallilta klo 9.30\, 10.00\, 10.30\, 11.00\, 11.30 ja 12.00. Kaivoksellamme on 0-toleranssi alkoholin suhteen\, ja kierrokselle lähtijät puhallutetaan lähtöpaikalla.\nKoska busseissa on rajoitettu määrä paikkoja\, kiertoajelulle tulee ilmoittautua ennakkoon 22. elokuuta mennessä. Ilmoittautumislinkki on tämän sivun alareunassa. Lisätietoa kiertojaeluista voi tiedustella puhelimitse numerosta 040 357 6004. Huom. Ilmoittautumislinkki sulkeutuu 23.8. klo 9.00\, jonka jälkeen ilmoittautuminen sähköisellä lomakkeella ei ole enää mahdollista. Vapaita paikkoja voi kuitenkin kysyä puhelimitse.\nYli 10 hengen ryhmien ilmoittautumiset otamme vastaan puhelimitse numeroon 040 357 6004.\nLämpimästi tervetuloa!\nKatso videolta\, kuinka vietimme avoimien ovien päivää urheiluhallilla vuonna 2017!\n
LOCATION:Kittilän urheiluhalli\, Havutie 6\, 99100\, Kittilä\, Suomi
URL:http://ssl.eventilla.com/kaivoskierros_ilmoittautuminen
END:VEVENT
END:VCALENDAR
