BEGIN:VCALENDAR
METHOD:PUBLISH
VERSION:2.0
PRODID:-//Eventilla iCal Syndication//NONSGML Liana//EN
BEGIN:VEVENT
UID:nq2b3@eventilla.com
DTSTAMP:20180521T140000Z
DTSTART:20180521T140000Z
DTEND:20180521T170000Z
SUMMARY:Yrittäjän digikoulu 2018 Turku
DESCRIPTION:Yrittäjän digikoulu Turku 21.5. klo 17.00-20.00\nPienille ja keskisuurille yrityksille tarkoitetut Yrittäjän digikoulut siirtävät Suomea digiaikaan. Yrittäjän digikoulu tuo digitalisaation yrittäjän luo erittäin käytännönläheisesti ja rohkaisevilla esimerkeillä valaistuna.\nDigikouluja järjestetään ympäri Suomen ja ne ovat täysin maksuttomia.\n\nYrittäjän digikoulu alkaa yrittäjän tarinalla: Näin digi tuli meille taloon.\nYrittäjätarinan jälkeen vuorossa on työpajoja.\nOsallistuja pystyy osallistumaan kahteen työpajaan.\n\nDigikoulut järjestetään vuonna 2018 yhdessä kumppaneidemme kanssa. Kumppanimme vuoden 2018 digikouluissa ovat Elisa\, Holvi\, Fennia ja Elo.
LOCATION:Kokouskeskus Mauno BioCity\, Tykistökatu 6\, 20520\, Turku
URL:http://ssl.eventilla.com/digikouluturku
END:VEVENT
END:VCALENDAR
