BEGIN:VCALENDAR
METHOD:PUBLISH
VERSION:2.0
PRODID:-//Eventilla iCal Syndication//NONSGML Liana//EN
BEGIN:VEVENT
UID:nqMal@eventilla.com
DTSTAMP:20191117T060000Z
DTSTART:20191117T060000Z
DTEND:20191119T210000Z
SUMMARY:CMAE European Conference 17.-19.11.2019\, Cascais\, Portugal
DESCRIPTION:CMAE European Conference on Club Manangement 17.-19.11.2019\, Cascais\, PortugalGolfjohtajien Euroopan yhdistys järjestää vuosittaisen konferenssinsa 17.-19.11.2019 Portugalin Cascaisissa ja FGMA järjestää konferenssiin ryhmämatkan. Yhdistyksen hallituksen puolesta konferenssiin ovat osallistumassa Olli-Pekka Nissinen ja Staffan Tuomolin sekä yhdistyksen toiminnanjohtaja Antti Hiltunen. Nyt sinulla on erittäin hyvä tilaisuus osallistua konferenssiin FGMA:n järjestämänä. Olemme varaamassa ensin lentoja jotta saamme sopivat aikataulut ja edulliset hinnat.\nPääset mukaan matkalle maksamalla ennakkomaksu 300€. Matkan kokonaiskustannukset ovat noin 1000€/ hlö.
LOCATION:Clube Naval de Cascais\, Lissabon\, Portugal
URL:http://ssl.eventilla.com/event/nqMal
END:VEVENT
END:VCALENDAR
