BEGIN:VCALENDAR
METHOD:PUBLISH
VERSION:2.0
PRODID:-//Eventilla iCal Syndication//NONSGML Liana//EN
BEGIN:VEVENT
UID:nqZ7R@eventilla.com
DTSTAMP:20190927T090000Z
DTSTART:20190927T090000Z
DTEND:20190927T120000Z
SUMMARY:Alueellinen kunnallis- ja yritysjohdon seminaari
DESCRIPTION:Tervetuloa Alueelliseen kunnallis- ja yritysjohdon seminaariin perjantaina 27.9.2019 klo 12-15 Seinäjoki Areenalle! \nEtelä-Pohjanmaan Yrittäjien alueen kunnallis- ja yritysjohdon seminaari kokoaa yhteen alueemme kuntapäättäjät ja yrittäjät keskustelemaan maakuntiemme muodostumisesta tulevaisuudessa. \nSeminaari rakentuu neljän ajankohtaisen teeman ympärille: uusi maakuntahallinto\, julkisten hankintojen kehittäminen\, omistajanvaihdokset sekä muut ajankohtaiset asiat.\nMiten sote-palvelut järjestetään niin\, että malli palvelee kuntalaisia\, kuntia ja yrityksiä? Mitä asioita edellisen hallituksen kaatuneesta sote-mallista kannattaa säilyttää ja kehittää?\nMiten säilytetään alueemme elinvoimaisuus ja tuotetaan kasvua yrityksille ja sitä kautta kunnille?\nMiten julkisia hankintoja kehitetään niin\, että alueemme yrittäjät voivat olla tarjouskilpailuissa mukana? Miten kunnat hyötyvät järkevästä julkisten hankintojen kilpailutuksesta? \nOn ennustettu\, että seuraavien vuosikymmenten aikana 50 000 yritystä tarvitsee toiminnalleen jatkajan. Kuntien yhteinen omistajanvaihdospalvelu on nyt ja tulevaisuudessa erittäin tärkeää. Palvelun jatkuminen edellyttää kunnilta edelleen toimia.\nTilaisuus on kaikille avoin ja maksuton. Tervetuloa! \nOhjelma:\n12.00 Avaus ja tervetulosanat Anne Niemi\, puheenjohtaja\, Etelä-Pohjanmaan Yrittäjät\n12.10 Alueelliset kehitysnäkymätTimo Takala\, strategiapäällikkö\, Etelä-Pohjanmaan ELY-keskus\n12.40  Uusien maakuntien rakentuminenHarri Jokiranta\, projektinjohtaja\, yhteiskuntatieteiden tohtori\, EP:n palvelurakenneuudistus\n13.10 Kahvi\n13.20 Yrittäjyydestä avaimet aluekehitykseenJanika Tikkala\, elinkeinopolitiikan asiantuntija\, Suomen Yrittäjät\n14.10 Julkiset hankinnatAnne Niemi\, puheenjohtaja\, Etelä-Pohjanmaan Yrittäjät\n14.40-15.00 omistajanvaihdospalvelun jatko\, päivän yhteenvetoHeikki Risikko\, toimitusjohtaja\, Etelä-Pohjanmaan Yrittäjät
LOCATION:Seinäjoki Areena, kokoustila 141 A\, Kirkkokatu 23\, 60220\,
 Seinäjoki\, Suomi
URL:http://ssl.eventilla.com/aluekujo
END:VEVENT
END:VCALENDAR
