BEGIN:VCALENDAR
METHOD:PUBLISH
VERSION:2.0
PRODID:-//Eventilla iCal Syndication//NONSGML Liana//EN
BEGIN:VEVENT
UID:nyVYP@eventilla.com
DTSTAMP:20200603T210000Z
DTSTART:20200603T210000Z
DTEND:20200819T210000Z
SUMMARY:Kesä20 Sisujengi
DESCRIPTION:SISUJENGI\nHUOM! Ilmoittautuminen järjestelmän kautta on päättynyt. Ilmoittautumiset 1.6 eteenpäin suoraan sähköpostitse salli.kirvesmies@lum.fi tai 046 9222808\n\nTorstaisin kimpisessä 18-19.00 (vko 23- vko33)\n\nSisujengi on tarkoitettu erityistukea tarvitseville lapsille vammasta tai rajoitteesta riippumatta. Ryhmässä harjoitellaan perusliikkumisen taitoja yleisurheilua ja hauskanpitoa unohtamatta. Mukaan voi liittyä esimerkiksi avustajan kanssa.\nSisujengiin ei ole olemassa varsinaista ikärajaa\, mutta olemme pyrkineet sijoittamaan nuorimmat osallistujat urheilukouluihin ja liikkariryhmiin. Olemme hyvin joustavia ja muutoksia on mahdollista tehdä myös kesken kauden.\nRyhmässä kokeillaan erilaisia yleiurheilulajeja\, pelejä ja kisailuja. Tule kokeilemaan!\nTutustuthan ennen ilmoittautumisten alkua  tietosuojaselosteeseen ja kuvauslupaan.\nILMOITTAUTUMISOHJEET\n\nIlmoittautumisen auettua valitse sivun alta haluamasi ryhmä. \nTäytä lomake huolellisesti. Seura hankkii alle 14-vuotiaille (2007 ja tätä nuoremmat) yleisurheilulisenssin luovutettujen tietojen perusteella.\nPainettuasi "Jatka" -painiketta siirryt maksutavan valintaan. Voit valita maksutavaksi myös laskun\, joka laskutetaan kesäkuussa.\nIlmoittautumisen jälkeen saat vahvistusviestin ilmoittamaasi sähköpostiosoitteeseen. \n\nHuom!\nIlmoittautumisen perumisesta laskutetaan 20 euron peruutusmaksu\, joka koostuu toimistokuluista ja lisenssistä. Peruutus on mahdollista tehdä vielä ensimmäisen harjoituskerran jälkeen\, jonka jälkeen tehdyistä peruutuksista veloitetaan täysi maksu.\nMaksuun on lisätty palveluverkkomaksu 2\,5€\, joka menee palvelun tuottaja Eventilla Oy:lle\nHuomioithan\, että ryhmien toteutuminen vaatii tietyn täyttöasteen. Jos vaadittu osallistujamäärä ei toteudu\, ryhmiä voidaan yhdistää tai osallistujat ohjataan toiveiden mukaan muihin ryhmiin.
LOCATION:Kimpisen urheilukeskus\, Urheilukatu\, 53100\, Lappeenranta
URL:http://ssl.eventilla.com/sisujengi
END:VEVENT
END:VCALENDAR
