BEGIN:VCALENDAR
METHOD:PUBLISH
VERSION:2.0
PRODID:-//Eventilla iCal Syndication//NONSGML Liana//EN
BEGIN:VEVENT
UID:oJ1Ew@eventilla.com
DTSTAMP:20250424T133000Z
DTSTART:20250424T133000Z
DTEND:20250424T143000Z
SUMMARY:Laiturilla – Energiainfo mökkeilijöille -webinaarisarja: 24.4. Aurinkosähkö ja sähkötön mökki
DESCRIPTION:\nMyös sähköttömällä mökillä on tärkeää huomioida energiatehokkuus. Tietoa aurinkosähköjärjestelmän hankinnasta off grid -mökille sekä kokemuspuheenvuoro mökkeilystä ja työnteosta sähköttömällä mökillä. Esittelyssä kotimainen aurinkoilmalämmitin. \n \nOhjelma \nTervetuloa webinaariin! – Tuula Pihkala\, projektipäällikkö\, Laiturilla 3 -hanke \nLaiturilla-hankkeen energianeuvonnan tervehdys – Tuuli Pohjola\, projektipäällikkö\, Feasib Oy \nAurinkosähköjärjestelmä sähköverkon ulkopuolella\nAurinkosähköstä energiaa työhön ja vapaa-aikaan mökillä – Veera Kinnunen\, mökkeilijä Ristiinasta \nKotimainen aurinkoilmalämmitin Pöhiskö – Jukka Kuittinen\, RaksiTuote Oy \nKeskustelua \n \nJärjestämme helmi-huhtikuussa neljä tunnin pituista infowebinaaria Teams-yhteydellä: \nto 13.2.2025 klo 16.30–17.30 Rakenteet ja puulämmitysto 6.3.2025 klo 16.30–17.30 Uudistunut rakennuslakito 3.4.2025 klo 16.30–17.30 Ilmanvaihto ja lämmitystavatto 24.4.2025 klo 16.30–17.30 Aurinkosähkö ja sähkötön mökki\nWebinaarit ovat avoimia kaikille mökkeilyä harrastaville ja mökkeilystä kiinnostuneille. Jokaiseen webinaariin ilmoittautuminen erikseen. Teams-linkki tilaisuuteen löytyy tapahtumasivulta ja lähetetään ilmoittautuneille sähköpostilla tapahtumapäivänä.\nWebinaarit järjestää Mikkelin kehitysyhtiö Miksei Oy:n hallinnoima Laiturilla 3 – vapaa-ajan asumisen energiankulutus ja hiilijalanjälki -hanke. Hankkeen tavoitteena on muun muassa pienentää vapaa-ajan asumisen energiankulutusta ja hiilijalanjälkeä hankealueella\, edistää uusiutuvien energialähteiden käyttöä sekä hiilineutraalien toimintamallien kehittämistä vapaa-ajan asumisessa. \nLaiturilla 3 -hanketta rahoittavat Euroopan aluekehitysrahasto ja Mikkelin seutuvaliokunta\, EU-rahoituksen myöntänyt viranomainen on Etelä-Savon maakuntaliitto. Lisää tietoa hankkeesta löydät täältä.\n
LOCATION:Teams
URL:http://ssl.eventilla.com/event/oJ1Ew
END:VEVENT
END:VCALENDAR
