BEGIN:VCALENDAR
METHOD:PUBLISH
VERSION:2.0
PRODID:-//Eventilla iCal Syndication//NONSGML Liana//EN
BEGIN:VEVENT
UID:oJ5MG@eventilla.com
DTSTAMP:20260609T070000Z
DTSTART:20260609T070000Z
DTEND:20260616T090000Z
SUMMARY:Sporttiaamut
DESCRIPTION:Sporttiaamut tiistaina 9.6. Maijamäen lähiliikuntapaikalla ja tiistaina 16.6 Karvetin lähiliikuntapaikalla. Sporttiaamuissa erilaisia pelejä ja leikkejä koululaisille ulkona lähiliikuntapaikoilla ohjatusti. Sporttiaamuissa mukana soveltavan liikunnan ohjaaja tarvittaessa\, laita soveltavan liikunnan tarve ilmoittautumislomakkeessa sille merkittyyn kohtaan.\nToiminta on maksutonta ja toteutetaan\, mikäli vähintään 8 osallistujaa.
LOCATION:Maijamäen ja Karvetin lähillikuntapaikat
URL:http://ssl.eventilla.com/sporttiaamutkesa26
END:VEVENT
END:VCALENDAR
