BEGIN:VCALENDAR
METHOD:PUBLISH
VERSION:2.0
PRODID:-//Eventilla iCal Syndication//NONSGML Liana//EN
BEGIN:VEVENT
UID:oJW1z@eventilla.com
DTSTAMP:20260531T210000Z
DTSTART:20260531T210000Z
DTEND:20260604T210000Z
SUMMARY:Lasten puuhaviikko 1\, 1.-5.6.2026
LOCATION:STEP-koulutus\, Järvenpääntie 640, 04400 Järvenpää\,
 Järvenpää
URL:http://ssl.eventilla.com/event/oJW1z
END:VEVENT
END:VCALENDAR
