BEGIN:VCALENDAR
METHOD:PUBLISH
VERSION:2.0
PRODID:-//Eventilla iCal Syndication//NONSGML Liana//EN
BEGIN:VEVENT
UID:oJbb0@eventilla.com
DTSTAMP:20260615T063000Z
DTSTART:20260615T063000Z
DTEND:20260617T130000Z
SUMMARY:Palikkamaailman supersankarit - Auran opissa
LOCATION:STEP-koulutus, Järvenpääntie 640, 04400 Järvenpää\,
 Järvenpää
URL:http://ssl.eventilla.com/event/oJbb0
END:VEVENT
END:VCALENDAR
