BEGIN:VCALENDAR
METHOD:PUBLISH
VERSION:2.0
PRODID:-//Eventilla iCal Syndication//NONSGML Liana//EN
BEGIN:VEVENT
UID:pEO8a@eventilla.com
DTSTAMP:20241127T080000Z
DTSTART:20241127T080000Z
DTEND:20241128T150000Z
SUMMARY:Rakennusterveysseminaari
DESCRIPTION:Lämpimästi tervetuloa osallistumaan Rakennusterveysseminaariin\, joka järjestetään Oulussa 27.–28.11.2024.\nZoom-linkki etäosallistumista varten: https://oulu.zoom.us/j/69938632984?from=addonSeminaari tarjoaa ainutlaatuisen tilaisuuden syventyä sisäilma- ja rakennusterveysaiheisiin eri näkökulmista. Ohjelmassa kuullaan alan huippuasiantuntijoiden puheenvuoroja muun muassa rakennusten sisäilmakorjauksista ja toimivuuden varmistamisesta sekä uusista teknologioista liittyen vähähiilisiin ratkaisuihin. Itse seminaari on maksuton.Seminaarin oheistapahtumana järjestämme 27.11. ekskursion\, jonka kohteena on Oulun kaupungintalon peruskorjaus. Lisäksi päivän ohjelmassa on rakennusterveysosaamiskeskuksen työpaja\, pilottilaboratorion vierailu ja mahdollisuus osallistua omakustanteiselle illalliselle (maksu ilmoittautumisen yhteydessä).Tilaisuuden järjestävät Oulun yliopiston Hyvä sisäilma ja rakennusterveys -tiimi\, professori Ulla Haverinen-Shaughnessyn johdolla\, sekä Pohjois-Suomen rakennusklusteri.Tapahtuma järjestetään Saalastinsalissa\, Oulun yliopiston Linnanmaan kampuksella. Tapahtuman pääasiallinen kieli on suomi.Seminaarin avainpuhujina kuullaan huippuasiantuntijoita: Prof. Jørn Toftum ja apulaisprofessori Yuexia Sun. \nHox! Seminaarilippu ei sisällä tarjoiluita.\nTapahtuman viimeinen ilmoittautumispäivä on ke 27.11.2024 klo 16:00.\nLue myös:\nLinnanmaalle saapuminen\, pysäköinti ja kampuskartta\nLisätietoja seminaarista saat myös ottamalla yhteyttä:Santeri Schroderus\, p. +3584578707680santeri.schroderus@oulu.fi
LOCATION:Saalastinsali, Linnanmaan kampus, Oulun yliopisto\, Pentti
 Kaiteran katu 1\, 90570\, Oulu\, Suomi
URL:http://ssl.eventilla.com/rakennusterveysseminaari
END:VEVENT
END:VCALENDAR
