BEGIN:VCALENDAR
METHOD:PUBLISH
VERSION:2.0
PRODID:-//Eventilla iCal Syndication//NONSGML Liana//EN
BEGIN:VEVENT
UID:pJWQE@eventilla.com
DTSTAMP:20260822T050000Z
DTSTART:20260822T050000Z
DTEND:20260822T120000Z
SUMMARY:Björn Borg Helsinki Marathon 2026
DESCRIPTION:Björn Borg Helsinki Marathon 2026 juostaan 22.8.2026.\nIlmoittaudu nyt mukaan! Voit myös ilmoittautumisen yhteydessä ostaa Björn Borgin valmistaman tapahtuman virallisen t-paidan hintaan 19 €.\nMaksutapoina on yleisimmät suomalaiset verkkopankit ja luottokortit\, sekä liikuntaedut. Mikäli valitset maksutavaksi liikuntaedun\, tutustuthan maksuohjeeseen täällä. Liikuntaedut ovat henkilökohtaisia\, joten niillä et voi maksaa toisen osallistujan ilmoittautumismaksua.
LOCATION:Meripuisto\, 00100\, Helsinki\, Suomi
URL:http://ssl.eventilla.com/helsinki-marathon-2026
END:VEVENT
END:VCALENDAR
