BEGIN:VCALENDAR
METHOD:PUBLISH
VERSION:2.0
PRODID:-//Eventilla iCal Syndication//NONSGML Liana//EN
BEGIN:VEVENT
UID:pJZ1Z@eventilla.com
DTSTAMP:20260609T060000Z
DTSTART:20260609T060000Z
DTEND:20260609T090000Z
SUMMARY:Julkiset hankinnat häiriötilanteissa ja poikkeusoloissa
DESCRIPTION:Kuvaus\nSuomen turvallisuusympäristö on muuttunut poikkeuksellisella tavalla ensin koronaviruspandemian seurauksena\, sitten Ukrainan sota ja nyt kauppasodan kiihtyessä.\nOrganisaation kriittisten toimintojen jatkuvuuden turvaamiseksi myös julkisissa hankinnoissa tulee varautua häiriötilanteisiin sekä normaali- että poikkeusoloissa. Varautuminen on toimintaa\, jolla varmistetaan organisaation tehtävien mahdollisimman häiriötön hoitaminen kaikissa tilanteissa.\nJulkisissa hankinnoissa joudutaan yhä enemmän arvioimaan huoltovarmuuteen ja turvallisuuteen liittyviä seikkoja. Hankintayksiköiden ja niille toimittavien tarjoajayritysten on tunnistettava ja turvattava organisaation varautumisen kannalta kriittiset hankinnat\, joita on arvioitava organisaation toiminnan jatkuvuuden\, valmiuden\, huoltovarmuuden ja turvallisuuden näkökulmasta.\nMyös valmiuden ja varautumiseen liittyvä lainsäädäntö uudistuu. Hankintalakien (1397/2016\, 1398/2016) uudistuksessa (2025) on esitetty täysin uusia huoltovarmuuteen ja turvallisuuteen liittyvien tekijöiden huomioimista. Valmiuslain (2011/1552) kokonaisuudistus on meneillään.\nMonilla julkisen sektorin organisaatiolla on lisäksi lakisääteinen varautumisvelvoite huolehtia toimintansa jatkuvuudesta poikkeusolojen lisäksi myös normaaliolojen häiriötilanteissa.\nKoulutuksessa annetaan osallistujille perusteet julkisissa hankinnoissa varautumiseen ja ratkaisuja hankintojen toteuttamiseen häiriötilanteissa ja poikkeusoloissa.\nKenelle: \n\nJulkisia hankintoja tekeville organisaatioille (hankintayksiköt)\nJulkisiin hankintoihin osallistuville yrityksille ja jo valituksi tulleille toimittajille\nOrganisaatioiden valmiuden ja varautumisen parissa työskenteleville\nKaikille muille aiheesta kiinnostuneille\n\nKouluttaja:\nKari Tossavainen\, juristi /Tossavainen & Metsävainio Oy\n\nKarilla on yli 20 vuoden kokemus julkisista hankinnoista\, erityisesti turvallisuushankinnoista\, niiden lainsäädännöstä\, ohjeistamisesta ja kouluttamisesta. Hän on ollut laatimassa lakia julkisista puolustus- ja turvallisuushankinnoista.\nKari on työskennellyt sekä hankintayksiköissä (PV\, VNK) ja yksityisellä sektorilla tukien tarjoaja-/toimittajayrityksiä ja hankintayksiköitä koko tarjous- ja hankintaprosessin ajan sekä sopimusaikana.\nKari tukee hankintayksiköitä mm. ohjeistamalla Hankinnat häiriötilanteissa ja poikkeusoloissa toimintaohjeen laatimisessa. Hän on työskennellessään puolustusvoimien pääesikunnassa ollut mukana ohjeistamassa ja harjoittelemassa hankinnoissa varautumista ja valmiuden kohottamista eri häiriötilanteissa ja poikkeusoloissa.\n\n__\nEtäkoulutus: Julkiset hankinnat häiriötilanteissa ja poikkeusoloissa\, PDF\nOhjelma klo 9.00–12.00\nJohdatus hankinnoissa varautumiseen\n\nMihin varaudutaan?\nVarautumisvelvoitteet\nKäsitteet ja määritelmät\nSäädöspohja\nHankintalain uudistusehdotukset: turvallisuus ja huoltovarmuus\n\nHankinnoissa varautuminen normaalioloissa\n\nHankinnoissa varautuminen eri valmiustiloissa\nKriittiset hankinnat ja hankintatilannekuva\nLakiperusteinen varautuminen\nSopimusperusteinen varautuminen\n\nHankinnat häiriötilanteissa ja poikkeusoloissa - perusteet\n\nSiirtymiset eri häiriötilanteisiin ja poikkeusoloihin\nJohtaminen ja hankintatilannekuva\nHankintatoimenpiteet\nYhteistyö ja tukeutuminen\nTiedottaminen ja viestintä\nPalautuminen\nValmiusharjoittelu\n\n__
LOCATION:Etäkoulutus
URL:http://ssl.eventilla.com/event/pJZ1Z
END:VEVENT
END:VCALENDAR
