BEGIN:VCALENDAR
METHOD:PUBLISH
VERSION:2.0
PRODID:-//Eventilla iCal Syndication//NONSGML Liana//EN
BEGIN:VEVENT
UID:pJZ93@eventilla.com
DTSTAMP:20260612T210000Z
DTSTART:20260612T210000Z
DTEND:20260613T210000Z
SUMMARY:Purentalihashieronnan jatkokoulutus 1/2026
LOCATION:STEP-koulutus, Pieksämäki\, Huvilakatu 31\, 76130\,
 Pieksämäki\, Suomi
URL:http://ssl.eventilla.com/event/pJZ93
END:VEVENT
END:VCALENDAR
