BEGIN:VCALENDAR
METHOD:PUBLISH
VERSION:2.0
PRODID:-//Eventilla iCal Syndication//NONSGML Liana//EN
BEGIN:VEVENT
UID:q70l3@eventilla.com
DTSTAMP:20250616T053000Z
DTSTART:20250616T053000Z
DTEND:20250617T130000Z
SUMMARY:Ensiapukurssi 16h / EA 8h / EA 4h (Oulu)
DESCRIPTION:ENSIAPUKURSSI 16h/8h/4h\nHuom! 4h koulutus klo 8.30-12.00\nEnsiapukorttien voimassaoloEnsiapukortti on voimassa kolme (3) vuotta.\nEnsiapukurssin päivitys / kertaus Ensiavun peruskurssin (EA1) voi päivittää yhden kerran\, joko neljän tai kahdeksan tunnin hätäensiapukurssilla. Ensiapukortin voi päivittää kuukauden sisällä sen voimassaolon päättymisen jälkeen\, mikäli pätevyys ehtii vanhentua. Pidäthän huolen ensiaputaitojen säännöllisestä päivityksestä!\n16h koulutuksesta on mahdollista saada kaksi kuorma- ja linja-autonkuljettajan ammattipätevyysmerkintää. 8h koulutuksesta saa yhden ammattipätevyysmerkinnän.\nKoulutusten sisältö:\n
LOCATION:Fast Oy\, Kiilletie 1\, 90620\, Oulu\, Suomi
URL:http://koulutukset.fastoy.fi/event/q70l3
END:VEVENT
END:VCALENDAR
