BEGIN:VCALENDAR
METHOD:PUBLISH
VERSION:2.0
PRODID:-//Eventilla iCal Syndication//NONSGML Liana//EN
BEGIN:VEVENT
UID:q7a5W@eventilla.com
DTSTAMP:20260505T140000Z
DTSTART:20260505T140000Z
DTEND:20260519T153000Z
SUMMARY:Suunnistuksen ABC
DESCRIPTION:Suunnistuksen kolmen kerran ABC-kurssi järjestetään Suovuoressa tiistaisin (5.5.\, 12.5.\, 19.5.) kello 17-18.30. Tapaaminen Suovuoressa hiihtolenkin parkkipaikalla osoitteessa Rämpsälänkatu 12.\nSuunnistuksen ABC -kurssilla harjoitellaan suunnistuksen perusteita. Käsiteltäviä aiheita ovat muun muassa kompassin käyttäminen\, karttamerkit\, korkeuskäyrät\, suunnistuksen tekniikat sekä toimiminen eksymistilanteessa. Jokaisella kerralla päästään myös suunnistamaan. Suunnistuksen ABC on tarkoitettu kaiken kuntoisille\, tasoisille ja ikäisille aikuisille.\nHinta: 10€ / Vire-kortilla maksuton. Ilmoittautuminen vaaditaan. Ilmoittautuminen aukeaa 2.4.2026 klo 09.00.
LOCATION:Suovuori\, Rämpsälänkatu 12\, 21110\, Naantali\, Suomi
URL:http://ssl.eventilla.com/event/q7a5W
END:VEVENT
END:VCALENDAR
