BEGIN:VCALENDAR
METHOD:PUBLISH
VERSION:2.0
PRODID:-//Eventilla iCal Syndication//NONSGML Liana//EN
BEGIN:VEVENT
UID:q7vdl@eventilla.com
DTSTAMP:20251009T063000Z
DTSTART:20251009T063000Z
DTEND:20251009T070000Z
SUMMARY:Kontakta Customer Service Week webinar: Så utvecklar du en säljkultur i kundservice!
DESCRIPTION:Kontakta Customer Service Week webinar: Så utvecklar du en säljkultur i kundserivce!\n \nAtt leda en kundservice till att bli säljande kräver ett tydligt ledarskap\, med ständigt fokus på sälj och ihärdighet! Agria har framgångsrikt utvecklat en säljande kultur i sin kundservice och personalen ser försäljning som en naturlig del av sitt uppdrag.\nAgria har en struktur där kundcenter betraktas som en affärsdriven säljavdelning och där kundmöten präglas av respekt och resultatdriven kultur. För att upprätthålla detta betonar de vikten av engagemang\, passion och trovärdighet för att skapa en naturlig försäljningskultur där alla medarbetare är aktivt involverade. Ledarna i kundservice arbetar systematiskt med motivation och belöning för att hålla säljkulturen vid liv\, ett arbete som är kräver ihärdighet!\nAnna Andersson och Claes Wenehult på Agria delar sina insikter och strategier för att engagera medarbetare och bygga en säljdynamik inom kundservice. \nI det här webinaret får du ta del av:\n\nHitta rätt personer vid rekrytering\, som har ett högt driv och passion för verksamheten\, i Agrias fall djur\, samt passion och engagemang för att skapa meningsfulla kundrelationer.\nRätt träningsprocess är nyckeln för en framgångsrik säljkultur där nya medarbetare snabbt får känna på företagets drivkraft och vision.\nSolid säljkultur som genomsyrar hela företaget. Att bli marknadsledande har krävt en dedikerad och systematisk strategi och ett ledarskap samt kultur formar framtidens kundrelationer genom att bygga långsiktigt och fokuserat.\n\nDu möter Tina Wahlroth som samtalar med Anna Andersson\, Försäljningschef & Chef Kundupplevelse och Claes Wenehult\, Chef Kundcenter Agria Djurförsäkring.\n\n\n\nPraktiska detaljer:\n \n\n\nDatum:\n9 oktober\n \n\n\nTid:\nKlockan 08:30-09:00\n \n\n\nPlats:\nDigitalt och länk skickas inför eventet till anmälda.\n \n\n\nVillkor:\nWebinaret är förinspelat och eventuella frågor kan adresseras direkt till Kontakta.\n \n\n\nKostnad:\nKostnadsfritt och öppet för alla\n \n\n\nKontakt:\ninfo@kontakta.se \n \n\n\n\n 
LOCATION:Digitalt
URL:http://ssl.eventilla.com/event/q7vdl
END:VEVENT
END:VCALENDAR
