BEGIN:VCALENDAR
METHOD:PUBLISH
VERSION:2.0
PRODID:-//Eventilla iCal Syndication//NONSGML Liana//EN
BEGIN:VEVENT
UID:q7yQZ@eventilla.com
DTSTAMP:20260821T173000Z
DTSTART:20260821T173000Z
DTEND:20260821T200000Z
SUMMARY:Kesäpäiväetkot\, risteily Kallavedellä
DESCRIPTION:Kallavesi risteily Osmo-laivalla Saimaa-Ilmiö tyyliin. Kuopiolainen Eleto-yhtye soittaa rock ja pop klassikoita. Laivalla on tarjolla ruokaa\,  juomaa saa omakustanteisesti. Kattauksesta löytyy ylikypsää häränrintaa\, broilerikasvispataa ja kasvisruokaa lisukkeineen. Ruokailu sisältyy risteilyn hintaan 40 € / henkilö. Maksu suoritetaan ilmoittautumisen jälkeen saatavien ohjeiden mukaisesti. Rakennusliiton jäsen voi ilmoittaa avecin mukaan.\nIlmoittautumisessa on käytössä jonotus järjestelmä. Jos etukäteen varattuja paikkoja ei lunasteta\, tarjotaan paikkoja jonotusjärjestyksen mukaisesti seuraaville. Kannattaa ilmoittautua jonoon\, vaikka risteily olisi täynnä. \n \nRisteilyn järjestää Rakennusliiton osasto 091 Kuopio
LOCATION:Kuopion satama\, 10100\, Kuopio\, Suomi
URL:http://ilmoittaudu.rakennusliitto.fi/event/q7yQZ
END:VEVENT
END:VCALENDAR
