BEGIN:VCALENDAR
METHOD:PUBLISH
VERSION:2.0
PRODID:-//Eventilla iCal Syndication//NONSGML Liana//EN
BEGIN:VEVENT
UID:qJ5dp@eventilla.com
DTSTAMP:20221018T063000Z
DTSTART:20221018T063000Z
DTEND:20221018T093000Z
SUMMARY:Teams tehokäyttöön asianajotoimistossa
DESCRIPTION:Uudet toiminnot\, kikat ja niksit\, joilla saat Teamsin tehokäyttöön kun perusasiat ovat jo hallussa. Ota modernin työnteon työkalut kunnolla haltuun!\nKouluttajana toimii asianajoassistentti  Johanna Lehtonen\, Asianajotoimisto Lukander Ruohola HTO Oy.\nOhjelma klo 9.30–12.30\, vain etänä (Teams)\nKokous- asetukset\, hallinta ja näkymä - sisällön jakaminen ja whiteboard - ryhmätyöhuoneet - kokous\, webinaari vai live?Chat-keskustelu - one-on-one / ryhmäkeskustelut - tiedostojen jako- tekstin muokkaus + lisätoiminnotTiimit ja kanavat - perustaminen ja käyttö Tiedostojen jako ja käsittely\nHinta\n170 euroa \nKouluttautumisvelvoite\n2 tuntia 45 minuuttia \nJärjestäjä\nSuomen Asianajajaliitto\nIlmoittautuminen\nTäytä ilmoittautumisesi alta viimeistään 11.10.2022. Täytäthän kaikki pyydetyt tiedot huolellisesti. \nPeruutusehdoista voit lukea ylhäältä välilehdeltä peruutusehdot ja muutokset.\nJäsentietojasi ei päivitetä ilmoittautuessa annettujen tietojen perusteella. Voit jäsenenä päivittää yhteystietosi suoraan Asiointipalvelu ASSIssa tai osoitteella jasenasiat@asianajajaliitto.fi. Jos et ole jäsen ja ilmoittaudut ensimmäisen kerran tilaisuuteen\, lisätään tietosi Asianajajaliiton asiakasrekisteriin.\nLisätietoja tietosuojasta 
LOCATION:Finland
URL:http://ssl.eventilla.com/event/qJ5dp
END:VEVENT
END:VCALENDAR
