BEGIN:VCALENDAR
METHOD:PUBLISH
VERSION:2.0
PRODID:-//Eventilla iCal Syndication//NONSGML Liana//EN
BEGIN:VEVENT
UID:qJwE2@eventilla.com
DTSTAMP:20220901T030000Z
DTSTART:20220901T030000Z
DTEND:20221231T180000Z
SUMMARY:Talviuinti kontista syksy 2022 (täynnä)
DESCRIPTION:KONTISTA UIMAAN SYYSKAUSI 2022\nTällä lomakkeella voi ilmoittautua talviuntiin Helsingin Ladun ja Polun talviuntipaikalle Rastilaan. Tutustuthan ennen ilmoittautumista Rastilan talviunti ohjeisiin.\nKonttimaksu oikeuttaa talviuintipaikan ja lämpimän pukukopin käyttöön syksyllä 2022. Syyskausi alkaa to 1.9.2022 ja päättyy la 31.12.2022. Pukuhuonekontti on käytettävissä vapaasti klo 6.00-20.00.\nKonttiuinnin maksu syyskaudelle on 50 €.Pukuhuonekonttiin pääsee henkilökohtaisella kulkutunnisteella\, joka lunastetaan avainpanttimaksulla. Avainpanttimaksu on 20 euroa ja se maksetaan vain kerran. Pantti palautetaan\, kun lopetat talviuinnin. Huomioithan\, että kulkutunnisteavain on henkilökohtainen ja sitä ei saa luovuttaa toiselle henkilölle.\nMuistathan\, että talviuinti on vain Helsingin Latu ja Polku ry:n jäsenille. Liittyä voit: Liity jäseneksi. Mikäli sinulla on epäselvyyttä\, oletko jäsen\, voit tarkistaa sen laittamalla sähköpostin toimisto@helsinginlatu.fiMikäli paikat ovat täynnä\, voit ilmoittautua jonoon. Jonossa oleville henkilöille ilmoitetaan (ilmoittautumisjärjestyksessä)\, mikäli paikkoja talviuintiin vapautuu.\nIlmoittautuminen uusille uimareille aukeaa keskiviikkona 24.8. klo 10.
LOCATION:Rastilan talviuintipaikka\, Karavaanikatu 4\, 00980\, Helsinki\,
 Suomi
URL:http://ssl.eventilla.com/event/qJwE2
END:VEVENT
END:VCALENDAR
