BEGIN:VCALENDAR
METHOD:PUBLISH
VERSION:2.0
PRODID:-//Eventilla iCal Syndication//NONSGML Liana//EN
BEGIN:VEVENT
UID:r4evv@eventilla.com
DTSTAMP:20240416T110000Z
DTSTART:20240416T110000Z
DTEND:20240416T130000Z
SUMMARY:Turvaa tila\, turvaa tulevaisuus – maatilan kyberturvallisuuskoulutus
DESCRIPTION:Osallistu maatilan kyberturvallisuuden koulutustilaisuuteemme ja opi kuinka:\n\nSuojata maatilasi digitaaliset järjestelmät\nTunnistaa ja torjua kyberuhat\nVarmistaa maatilasi toiminnan jatkuvuus\n\nTapahtuman järjestävät Oulun ammattikorkeakoulu ja Kaakkois-Suomen ammattikorkeakoulu Xamk.\nTapahtuma peruttu!\nTapahtuma on peruttu sairastapauksen vuoksi. Aiheesta tehdään tallenne\, joka on kuunneltavissa vapaasti valittavana aikana. Jos haluat tallenteen käyttöösi\, ole yhteydessä Aleksi Kärnään Oulun ammattikorkeakouluun (etunimi.sukunimi@oamk.fi)\n 
LOCATION:Tapahtuma järjestetään virtuaalisesti Teamsilla
URL:http://tapahtuma.oamk.fi/event/r4evv
END:VEVENT
END:VCALENDAR
