BEGIN:VCALENDAR
METHOD:PUBLISH
VERSION:2.0
PRODID:-//Eventilla iCal Syndication//NONSGML Liana//EN
BEGIN:VEVENT
UID:r4gYQ@eventilla.com
DTSTAMP:20221009T150000Z
DTSTART:20221009T150000Z
DTEND:20260131T215900Z
SUMMARY:Malttia menoon -luentotallenne
DESCRIPTION:Malttia menoon -luentotallenne\n \nKesto noin 1h 53min\, hinta 22€\nOnko koirasi vaikea keskittyä? Tuntuuko\, että koirasi on kiinnostuneempi ympäristöstään kuin sinusta? Nousevatko koiran kierrokset hetkessä?Itsehillintää ja malttamista voi kehittää monella tapaa. Impulsiivisuus on jossain määrin sisäsyntyinen ominaisuus\, mutta sellaistakin koiraa voi auttaa koulutuksella. Erilaiset luopumisharjoitukset\, koiran omaehtoinen toiminta\, kohdetyöskentely ja siedättäminen ovat esimerkkejä tekniikoista\, joiden avulla koiran ja ohjaajan yhteistyötä ja elämää voidaan sujuvoittaa.\n \nLuennoitsijana toimii koirakoulu Masseterin perustaja\, erikoisammattitutkinnon suorittanut eläintenkouluttaja Liisa Tikka.\nTallenne on ostajan käytössä kuukauden ajan.\n \n 
LOCATION:Koirakoulu Masseter
URL:http://ssl.eventilla.com/malttia_tallenne
END:VEVENT
END:VCALENDAR
