BEGIN:VCALENDAR
METHOD:PUBLISH
VERSION:2.0
PRODID:-//Eventilla iCal Syndication//NONSGML Liana//EN
BEGIN:VEVENT
UID:r4o9y@eventilla.com
DTSTAMP:20231128T220000Z
DTSTART:20231128T220000Z
DTEND:20231129T220000Z
SUMMARY:X Valtakunnalliset Tupakka ja terveys -päivät
DESCRIPTION:Järjestäjät:\nFilha ry\nTerveyden ja hyvinvoinnin laitos\nKohderyhmä:\nSote-ammattilaiset ja tulevat ammattilaiset\, tutkijat\, viranomaiset ja päätöksentekijät\nOsallistumismaksu:\n·    140 €/2 päivää100 €/1 lähipäivä (30.11.2023)80 €/1 etäpäivä (29.11.2023)\nPeruutusehdot:\nViimeinen kuluton peruutuspäivä on viikkoa ennen koulutusta. Tämän jälkeen tulleista peruutuksista tai peruuttamatta jättämisistä veloitetaan täysi osallistumismaksu. Edellä mainittu ei koske sairastapauksia.
LOCATION:THL\, Mannerheimintie 166\, Helsinki
URL:http://ssl.eventilla.com/event/r4o9y
END:VEVENT
END:VCALENDAR
