BEGIN:VCALENDAR
METHOD:PUBLISH
VERSION:2.0
PRODID:-//Eventilla iCal Syndication//NONSGML Liana//EN
BEGIN:VEVENT
UID:r4vYa@eventilla.com
DTSTAMP:20231013T190000Z
DTSTART:20231013T190000Z
DTEND:20231015T140000Z
SUMMARY:Kansallismuseo 48H: Näkökulmakierrokset
DESCRIPTION:Tunnettujen henkilöiden vetämät näkökulmakierrokset johdattavat museon näyttelyihin. Oppaina niin toimittajia\, kirjailijoita ja artisteja. Paikkoja rajoitetusti\, varaa paikkasi ainutlaatuisten näkemysten ja kokemusten äärelle.\nPERJANTAI 13.10. \nklo 22 TÄYNNÄKarolina Kouvola ja Vanessa Kairulahti: Yöpuolen tarinoita \nMillaisia levottomia sieluja Kansallismuseon seinät kätkevät sisälleen? Mitä uskomuksia ja rituaaleja kansanuskon pimeät puolet pitävät sisällään? Kierroksella kuullaan kauhutarinoita menneisyydestä ja kummitustarinoita Helsingin hengistä. Oppaina Helsingin henget -teoksen tekijät\, kirjailijat Karolina Kouvola ja Vanessa Kairulahti.\nLAUANTAI 14.10.\nklo 14 TÄYNNÄJuha Hurme: Kalevala\, kansallisuusaate ja Suomen historia\nKirjailija Juha Hurme on tunnettu raflaavista näkökulmistaan Suomen historiaan. Kierroksella kuljetaan Kansallismuseon Toista maata -näyttelyn lävitse ruotien Kalevalan ja suomalaisuuden syntyä sekä itämerensuomalaisen runoutta. \nklo 15 Regina Rask: Muinaisuus on juurihoitoa nykyaikaan eksyneelle ihmiselle\nEsihistoria palauttaa meidät perusasioihin. Se vie meidät aikaan\, jolloin ruoka ei ollut identiteettikysymys\, yhteisö oli yksilöä tärkeämpi ja kaikella oli sielu. Oppaana kierroksella toimittaja\, kirjailija Regina Rask.\nklo 16Mirva Saukkola:  Vaatteet ja aatteet\nAntiikki & Design -lehden päätoimittaja Mirva Saukkola pohtii Kansallismuseon Toista maata -näyttelyssä\, miten tyyli ja tavat ovat heijastaneet kulttuurimme muutoksia.\nklo 22 TÄYNNÄKarolina Kouvola ja Vanessa Kairulahti: Yöpuolen tarinoita \nMillaisia levottomia sieluja Kansallismuseon seinät kätkevät sisälleen? Mitä uskomuksia ja rituaaleja kansanuskon pimeät puolet pitävät sisällään? Kierroksella kuullaan kauhutarinoita menneisyydestä sekä kummitustarinoita Helsingin hengistä. Oppaina Helsingin henget -teoksen kirjailijat Karolina Kouvola ja Vanessa Kairulahti.\nSUNNUNTAI 15.10.\nklo 14 Miguel Peltomaa: Kieli on aikamme kuva - viittomia\, sanoja sekä muotokuvia historiasta ja tästä hetkestä \nViittomakielen mediapersoona\, somevaikuttaja ja viittomakielen artisti Miguel Peltomaa opastaa Toista maata -näyttelyssä suomalaisella viittomakielellä. Kierros tulkataan suomen kielelle. Lähtö museon keskihallista.\nklo 15 Robert Sundman: Yhdessä vai erikseen? Suomalaisten duunareiden ja pamppujen yhteistyö itsenäisyyden aikana\nPolitiikan toimittaja Robert Sundman vie yleisön kierrokselle Suomen tarina -näyttelyyn. Kierroksella pohditaan ajankohtaista teemaa: työmarkkinoita. Milloin historiassa on haluttu sopia asioista yhdessä ja milloin ei?\n 
LOCATION:Kansallismuseo, Keskihalli\, Mannerheimintie 34\, 00100\,
 Helsinki
URL:http://ssl.eventilla.com/erikoisopastukset
END:VEVENT
END:VCALENDAR
