BEGIN:VCALENDAR
METHOD:PUBLISH
VERSION:2.0
PRODID:-//Eventilla iCal Syndication//NONSGML Liana//EN
BEGIN:VEVENT
UID:ry1Ld@eventilla.com
DTSTAMP:20260121T120000Z
DTSTART:20260121T120000Z
DTEND:20260506T120000Z
SUMMARY:Kuntosaliohjaus Maijamäki kevät -26
DESCRIPTION:Kuntosaliohjausta yläkouluikäisille Maijamäen kuntosalilla keskiviikkoisin klo 14-15 viikoilla 4-19 (ei koulujen loma-aikoina eikä arkipyhinä). Saat opastusta kuntosalilaitteiden käyttöön sekä ohjeita ja vinkkejä harjoitteluun. Ohjaajana Joona Lehikoinen.
LOCATION:Maijamäen kuntosali\, Venevalkamantie 2\, 21100\, Naantali\,
 Suomi
URL:http://ssl.eventilla.com/event/ry1Ld
END:VEVENT
END:VCALENDAR
