BEGIN:VCALENDAR
METHOD:PUBLISH
VERSION:2.0
PRODID:-//Eventilla iCal Syndication//NONSGML Liana//EN
BEGIN:VEVENT
UID:ry3QM@eventilla.com
DTSTAMP:20260423T090000Z
DTSTART:20260423T090000Z
DTEND:20260423T110000Z
SUMMARY:Torstaitreffit 23.4.2026: Runoilija Katja Meriluoto
DESCRIPTION:Torstaitreffit 23.4.2026 klo 12-14: Runoilija Katja Meriluoto\nTorstaitreffien vieraana Kirjan ja ruusun päivänä on runoilija Katja Meriluoto.\nKeskustelemme hänen kanssaan kirjoittamisesta\, luovuudesta ja siitä\, miten runous voi avata uusia näkökulmia elämään – ja ehkä myös meihin itseemme. Kuulemme myös muutaman runon Katjan lukemana.\nKatja Meriluoto on helsinkiläinen runoilija ja virolaisen runouden suomentaja\, jolta on julkaistu lastenkirja Usva\, Osku ja uneton yö (2021) sekä kaksi runokokoelmaa\, Mehiläisen paino (2023) ja Puun avaruudesta (2025). \nTorstaitreffien tilaisuudessa voi ostaa runokokoelmia Mehiläisen paino (2023) ja Puun avaruudesta (2025). Maksu käteisellä 15 €/kpl tai MobilePayllä. \nLämpimästi tervetuloa!\nTorstaitreffien ohjelmassa klo 12-13 kevyt lounas (10 €) ja 13-14 alustus.\nEnnakkoilmoittautumiset alla olevalla lomakkeella. Lounas maksetaan paikan päällä.\n***\nTule treffeille Kulttuurikeskus Sofiaan!\nKulttuurikeskus Sofia kutsuu treffeille torstaisin klo 12-14. Torstaitreffien ohjelmassa kevyt lounas (10 €\, klo 12-13) ja vaihtuvaa ohjelmaa sekä kiinnostavia vieraita ja ajankohtaisia alustuksia (klo 13-14). \nEnnakkoilmoittautuminen alla olevalla lomakkeella tai puh. 010 277 900\, kulttuuri@sofia.fi.\nLämpimästi tervetuloa yksin tai ystävien kanssa. Kootkaa harrastus- tai ystäväpiiri yhteen ja tulkaa treffeille Sofiaan.
LOCATION:Kulttuurikeskus Sofia\, Kallvikinniementie 35\, 00980\,
 Helsinki\, Suomi
URL:http://ssl.eventilla.com/event/ry3QM
END:VEVENT
END:VCALENDAR
