BEGIN:VCALENDAR
METHOD:PUBLISH
VERSION:2.0
PRODID:-//Eventilla iCal Syndication//NONSGML Liana//EN
BEGIN:VEVENT
UID:ry3qq@eventilla.com
DTSTAMP:20261110T220000Z
DTSTART:20261110T220000Z
DTEND:20261112T220000Z
SUMMARY:Eläinlääkäripäivien posterinäyttely 2026
DESCRIPTION:Eläinlääkäripäivien tieteellinen posterinäyttely.\nIlmoittautuminen näyttelyyn alkaa 11.5.2026 kello 8.00 ja päättyy 7.9.2026 kello 16.
LOCATION:Messukeskus\, Messuaukio 1\, 00520\, Helsinki\, Finland
URL:http://ssl.eventilla.com/event/ry3qq
END:VEVENT
END:VCALENDAR
