BEGIN:VCALENDAR
METHOD:PUBLISH
VERSION:2.0
PRODID:-//Eventilla iCal Syndication//NONSGML Liana//EN
BEGIN:VEVENT
UID:ryOO5@eventilla.com
DTSTAMP:20250917T103000Z
DTSTART:20250917T103000Z
DTEND:20250917T120000Z
SUMMARY:Astmawebinaari osa 2
DESCRIPTION:Ohjelma\n13:30 Koulutuksen avausKrista Ahvenjärvi\, allergia- ja astma-asiantuntija\, Filha ry\n13:35 Astman omahoito - kaiken perustaAntti Saarinen\, asiantuntijaylilääkäri\, keuhkosairauksien erikoislääkäri\, Filha ry\n14:15 Yhteistyökumppanin puheenvuoro\n14:30 Astmapotilaan omahoidon ohjausKrista Ahvenjärvi\n14:50 Keskustelua ja aikaa kysymyksille\n15:00 Koulutus päättyy\nKoulutus on maksuton. Tervetuloa!
LOCATION:Webinaari
URL:http://ssl.eventilla.com/event/ryOO5
END:VEVENT
END:VCALENDAR
